Workbook

Sheet سهام
A2: صندوق سرمایه‌گذاری ثابت آوند مفید | B2: صندوق سرمایه‌گذاری ثابت آوند مفید | C2: صندوق سرمایه‌گذاری ثابت آوند مفید | D2: صندوق سرمایه‌گذاری ثابت آوند مفید | E2: صندوق سرمایه‌گذاری ثابت آوند مفید | F2: صندوق سرمایه‌گذاری ثابت آوند مفید | G2: صندوق سرمایه‌گذاری ثابت آوند مفید | H2: صندوق سرمایه‌گذاری ثابت آوند مفید | I2: صندوق سرمایه‌گذاری ثابت آوند مفید | J2: صندوق سرمایه‌گذاری ثابت آوند مفید | K2: صندوق سرمایه‌گذاری ثابت آوند مفید | L2: صندوق سرمایه‌گذاری ثابت آوند مفید | M2: صندوق سرمایه‌گذاری ثابت آوند مفید | N2: صندوق سرمایه‌گذاری ثابت آوند مفید | O2: صندوق سرمایه‌گذاری ثابت آوند مفید | P2: صندوق سرمایه‌گذاری ثابت آوند مفید | Q2: صندوق سرمایه‌گذاری ثابت آوند مفید | R2: صندوق سرمایه‌گذاری ثابت آوند مفید | S2: صندوق سرمایه‌گذاری ثابت آوند مفید | T2: صندوق سرمایه‌گذاری ثابت آوند مفید | U2: صندوق سرمایه‌گذاری ثابت آوند مفید | V2: صندوق سرمایه‌گذاری ثابت آوند مفید | W2: صندوق سرمایه‌گذاری ثابت آوند مفید | X2: صندوق سرمایه‌گذاری ثابت آوند مفید | Y2: صندوق سرمایه‌گذاری ثابت آوند مفید
A3: صورت وضعیت پورتفوی | B3: صورت وضعیت پورتفوی | C3: صورت وضعیت پورتفوی | D3: صورت وضعیت پورتفوی | E3: صورت وضعیت پورتفوی | F3: صورت وضعیت پورتفوی | G3: صورت وضعیت پورتفوی | H3: صورت وضعیت پورتفوی | I3: صورت وضعیت پورتفوی | J3: صورت وضعیت پورتفوی | K3: صورت وضعیت پورتفوی | L3: صورت وضعیت پورتفوی | M3: صورت وضعیت پورتفوی | N3: صورت وضعیت پورتفوی | O3: صورت وضعیت پورتفوی | P3: صورت وضعیت پورتفوی | Q3: صورت وضعیت پورتفوی | R3: صورت وضعیت پورتفوی | S3: صورت وضعیت پورتفوی | T3: صورت وضعیت پورتفوی | U3: صورت وضعیت پورتفوی | V3: صورت وضعیت پورتفوی | W3: صورت وضعیت پورتفوی | X3: صورت وضعیت پورتفوی | Y3: صورت وضعیت پورتفوی
A4: برای ماه منتهی به 1405/06/31 | B4: برای ماه منتهی به 1405/06/31 | C4: برای ماه منتهی به 1405/06/31 | D4: برای ماه منتهی به 1405/06/31 | E4: برای ماه منتهی به 1405/06/31 | F4: برای ماه منتهی به 1405/06/31 | G4: برای ماه منتهی به 1405/06/31 | H4: برای ماه منتهی به 1405/06/31 | I4: برای ماه منتهی به 1405/06/31 | J4: برای ماه منتهی به 1405/06/31 | K4: برای ماه منتهی به 1405/06/31 | L4: برای ماه منتهی به 1405/06/31 | M4: برای ماه منتهی به 1405/06/31 | N4: برای ماه منتهی به 1405/06/31 | O4: برای ماه منتهی به 1405/06/31 | P4: برای ماه منتهی به 1405/06/31 | Q4: برای ماه منتهی به 1405/06/31 | R4: برای ماه منتهی به 1405/06/31 | S4: برای ماه منتهی به 1405/06/31 | T4: برای ماه منتهی به 1405/06/31 | U4: برای ماه منتهی به 1405/06/31 | V4: برای ماه منتهی به 1405/06/31 | W4: برای ماه منتهی به 1405/06/31 | X4: برای ماه منتهی به 1405/06/31 | Y4: برای ماه منتهی به 1405/06/31
A6: نام شرکت | C6: 1405/05/31 | D6: 1405/05/31 | E6: 1405/05/31 | F6: 1405/05/31 | G6: 1405/05/31 | I6: تغییرات طی دوره | J6: تغییرات طی دوره | K6: تغییرات طی دوره | L6: تغییرات طی دوره | M6: تغییرات طی دوره | N6: تغییرات طی دوره | O6: تغییرات طی دوره | Q6: 1405/06/31 | R6: 1405/06/31 | S6: 1405/06/31 | T6: 1405/06/31 | U6: 1405/06/31 | V6: 1405/06/31 | W6: 1405/06/31 | X6: 1405/06/31 | Y6: 1405/06/31
A7: نام شرکت | C7: تعداد | E7: بهای تمام شده | G7: خالص ارزش فروش | I7: خرید طی دوره | J7: خرید طی دوره | K7: خرید طی دوره | M7: فروش طی دوره | N7: فروش طی دوره | O7: فروش طی دوره | Q7: تعداد | S7: قیمت بازار | U7: بهای تمام شده | W7: خالص ارزش فروش | Y7: درصد به کل دارایی‌های صندوق
A8: نام شرکت | C8: تعداد | E8: بهای تمام شده | G8: خالص ارزش فروش | I8: تعداد | K8: بهای تمام شده | M8: تعداد | O8: مبلغ فروش | Q8: تعداد | S8: قیمت بازار | U8: بهای تمام شده | W8: خالص ارزش فروش | Y8: درصد به کل دارایی‌های صندوق
A9: توسعه معادن وص.معدنی خاورمیانه | C9: 7000000 | E9: 30371019084 | G9: 42667661246 | I9: 0 | K9: 0 | M9: 0 | O9: 0 | Q9: 7000000 | S9: 6133 | U9: 30371019084 | W9: 42667661246 | Y9: 7.7774908e-05
A10: فولاد هرمزگان جنوب | C10: 9090119780 | E10: 15001943458595 | G10: 16812945793587 | I10: 0 | K10: 0 | M10: 0 | O10: 0 | Q10: 9090119780 | S10: 1895 | U10: 15001943458595 | W10: 17120114067086 | Y10: 0.031206662
A11: امتیاز تسهیلات مسکن سال1405 | C11: 0 | E11: 0 | G11: 0 | I11: 175103 | K11: 136896562362 | M11: -175103 | O11: 136896562366 | Q11: 0 | S11: 0 | U11: 0 | W11: 0 | Y11: 0
E12: =SUM(E9:E11) -> 15032314477679 | G12: =SUM(G9:G11) -> 16855613454833 | K12: =SUM(K9:K11) -> 136896562362 | O12: =SUM(O9:O11) -> 136896562366 | U12: =SUM(U9:U11) -> 15032314477679 | W12: =SUM(W9:W11) -> 17162781728332 | Y12: =SUM(Y9:Y11) -> 0.031284437

Sheet واحدهای صندوق
A2: صندوق سرمایه‌گذاری ثابت آوند مفید | B2: صندوق سرمایه‌گذاری ثابت آوند مفید | C2: صندوق سرمایه‌گذاری ثابت آوند مفید | D2: صندوق سرمایه‌گذاری ثابت آوند مفید | E2: صندوق سرمایه‌گذاری ثابت آوند مفید | F2: صندوق سرمایه‌گذاری ثابت آوند مفید | G2: صندوق سرمایه‌گذاری ثابت آوند مفید | H2: صندوق سرمایه‌گذاری ثابت آوند مفید | I2: صندوق سرمایه‌گذاری ثابت آوند مفید | J2: صندوق سرمایه‌گذاری ثابت آوند مفید | K2: صندوق سرمایه‌گذاری ثابت آوند مفید | L2: صندوق سرمایه‌گذاری ثابت آوند مفید | M2: صندوق سرمایه‌گذاری ثابت آوند مفید | N2: صندوق سرمایه‌گذاری ثابت آوند مفید | O2: صندوق سرمایه‌گذاری ثابت آوند مفید | P2: صندوق سرمایه‌گذاری ثابت آوند مفید | Q2: صندوق سرمایه‌گذاری ثابت آوند مفید | R2: صندوق سرمایه‌گذاری ثابت آوند مفید | S2: صندوق سرمایه‌گذاری ثابت آوند مفید | T2: صندوق سرمایه‌گذاری ثابت آوند مفید | U2: صندوق سرمایه‌گذاری ثابت آوند مفید | V2: صندوق سرمایه‌گذاری ثابت آوند مفید | W2: صندوق سرمایه‌گذاری ثابت آوند مفید | X2: صندوق سرمایه‌گذاری ثابت آوند مفید | Y2: صندوق سرمایه‌گذاری ثابت آوند مفید
A3: صورت وضعیت پورتفوی | B3: صورت وضعیت پورتفوی | C3: صورت وضعیت پورتفوی | D3: صورت وضعیت پورتفوی | E3: صورت وضعیت پورتفوی | F3: صورت وضعیت پورتفوی | G3: صورت وضعیت پورتفوی | H3: صورت وضعیت پورتفوی | I3: صورت وضعیت پورتفوی | J3: صورت وضعیت پورتفوی | K3: صورت وضعیت پورتفوی | L3: صورت وضعیت پورتفوی | M3: صورت وضعیت پورتفوی | N3: صورت وضعیت پورتفوی | O3: صورت وضعیت پورتفوی | P3: صورت وضعیت پورتفوی | Q3: صورت وضعیت پورتفوی | R3: صورت وضعیت پورتفوی | S3: صورت وضعیت پورتفوی | T3: صورت وضعیت پورتفوی | U3: صورت وضعیت پورتفوی | V3: صورت وضعیت پورتفوی | W3: صورت وضعیت پورتفوی | X3: صورت وضعیت پورتفوی | Y3: صورت وضعیت پورتفوی
A4: برای ماه منتهی به 1405/06/31 | B4: برای ماه منتهی به 1405/06/31 | C4: برای ماه منتهی به 1405/06/31 | D4: برای ماه منتهی به 1405/06/31 | E4: برای ماه منتهی به 1405/06/31 | F4: برای ماه منتهی به 1405/06/31 | G4: برای ماه منتهی به 1405/06/31 | H4: برای ماه منتهی به 1405/06/31 | I4: برای ماه منتهی به 1405/06/31 | J4: برای ماه منتهی به 1405/06/31 | K4: برای ماه منتهی به 1405/06/31 | L4: برای ماه منتهی به 1405/06/31 | M4: برای ماه منتهی به 1405/06/31 | N4: برای ماه منتهی به 1405/06/31 | O4: برای ماه منتهی به 1405/06/31 | P4: برای ماه منتهی به 1405/06/31 | Q4: برای ماه منتهی به 1405/06/31 | R4: برای ماه منتهی به 1405/06/31 | S4: برای ماه منتهی به 1405/06/31 | T4: برای ماه منتهی به 1405/06/31 | U4: برای ماه منتهی به 1405/06/31 | V4: برای ماه منتهی به 1405/06/31 | W4: برای ماه منتهی به 1405/06/31 | X4: برای ماه منتهی به 1405/06/31 | Y4: برای ماه منتهی به 1405/06/31
A6: نام شرکت | C6: 1405/05/31 | D6: 1405/05/31 | E6: 1405/05/31 | F6: 1405/05/31 | G6: 1405/05/31 | I6: تغییرات طی دوره | J6: تغییرات طی دوره | K6: تغییرات طی دوره | L6: تغییرات طی دوره | M6: تغییرات طی دوره | N6: تغییرات طی دوره | O6: تغییرات طی دوره | Q6: 1405/06/31 | R6: 1405/06/31 | S6: 1405/06/31 | T6: 1405/06/31 | U6: 1405/06/31 | V6: 1405/06/31 | W6: 1405/06/31 | X6: 1405/06/31 | Y6: 1405/06/31
A7: نام شرکت | C7: تعداد | E7: بهای تمام شده | G7: خالص ارزش فروش | I7: خرید طی دوره | J7: خرید طی دوره | K7: خرید طی دوره | M7: فروش طی دوره | N7: فروش طی دوره | O7: فروش طی دوره | Q7: تعداد | S7: قیمت بازار | U7: بهای تمام شده | W7: خالص ارزش فروش | Y7: درصد به کل دارایی‌های صندوق
A8: نام شرکت | C8: تعداد | E8: بهای تمام شده | G8: خالص ارزش فروش | I8: تعداد | K8: بهای تمام شده | M8: تعداد | O8: مبلغ فروش | Q8: تعداد | S8: قیمت بازار | U8: بهای تمام شده | W8: خالص ارزش فروش | Y8: درصد به کل دارایی‌های صندوق
A9: صندوق س سهامی بیدار-اهرمی - واحد عادی | C9: 139143412 | E9: 2175247048439 | G9: 4160666305624 | I9: 0 | K9: 0 | M9: 0 | O9: 0 | Q9: 139143412 | S9: 19997 | U9: 2175247048439 | W9: 2782450809764 | Y9: 0.0050718706
A10: صندوق س صنایع مفید1- بخشی | C10: 14495303 | E10: 299601891872 | G10: 433322221006 | I10: 0 | K10: 0 | M10: 0 | O10: 0 | Q10: 14495303 | S10: 36400 | U10: 299601891872 | W10: 527117229042 | Y10: 0.00096083293
A11: صندوق س صنایع مفید4-بخشی | C11: 1325774 | E11: 29246795160 | G11: 30199650870 | I11: 0 | K11: 0 | M11: 0 | O11: 0 | Q11: 1325774 | S11: 29671 | U11: 29246795160 | W11: 39298883425 | Y11: 7.1634277e-05
A12: صندوق س.توسعه اندوخته آینده-س | C12: 4137000 | E12: 400306283261 | G12: 591021289717 | I12: 0 | K12: 0 | M12: 0 | O12: 0 | Q12: 4137000 | S12: 154070 | U12: 400306283261 | W12: 636769324038 | Y12: 0.0011607075
A13: صندوق سرمایه‌گذاری بازنشستگی تکمیلی آتیه مفید | C13: 31544746 | E13: 999999992946 | G13: 1227027529908 | I13: 0 | K13: 0 | M13: 0 | O13: 0 | Q13: 31544746 | S13: 44837 | U13: 999999992946 | W13: 1414371776402 | Y13: 0.0025781267
A14: صندوق سرمایه‌گذاری مشترک امید توسعه | C14: 13222441 | E14: 999999990389 | G14: 1170000914326 | I14: 0 | K14: 0 | M14: 0 | O14: 0 | Q14: 13222441 | S14: 101456 | U14: 999999990389 | W14: 1341495974096 | Y14: 0.0024452881
A15: صندوق سرمایه‌گذاری مشترک پیشتاز | C15: 6813985 | E15: 999999996645 | G15: 1160850926555 | I15: 0 | K15: 0 | M15: 0 | O15: 0 | Q15: 6813985 | S15: 198424 | U15: 999999996645 | W15: 1352058159640 | Y15: 0.002464541
A16: صندوق سرمایه‌گذاری مشترک پیشرو | C16: 31898944 | E16: 999999995456 | G16: 1167086664128 | I16: 0 | K16: 0 | M16: 0 | O16: 0 | Q16: 31898944 | S16: 42342 | U16: 999999995456 | W16: 1350665086848 | Y16: 0.0024620017
A17: صندوق طلای عیار مفید | C17: 10079988 | E17: 4194094341693 | G17: 5983521666731 | I17: 0 | K17: 0 | M17: 0 | O17: 0 | Q17: 10079988 | S17: 659997 | U17: 4194094341693 | W17: 6648271225794 | Y17: 0.012118515
A18: ص س. پروژه برق خورشیدی | C18: 0 | E18: 0 | G18: 0 | I18: 49940071 | K18: 499553027212 | M18: 0 | O18: 0 | Q18: 49940071 | S18: 10000 | U18: 499553027212 | W18: 499248392783 | Y18: 0.00091003343
E19: =SUM(E9:E18) -> 11098496335861 | G19: =SUM(G9:G18) -> 15923697168865 | K19: =SUM(K9:K18) -> 499553027212 | O19: =SUM(O9:O18) -> 0 | U19: =SUM(U9:U18) -> 11598049363073 | W19: =SUM(W9:W18) -> 16591746861832 | Y19: =SUM(Y9:Y18) -> 0.030243551

Sheet تبعی
A2: صندوق سرمایه‌گذاری ثابت آوند مفید | B2: صندوق سرمایه‌گذاری ثابت آوند مفید | C2: صندوق سرمایه‌گذاری ثابت آوند مفید | D2: صندوق سرمایه‌گذاری ثابت آوند مفید | E2: صندوق سرمایه‌گذاری ثابت آوند مفید | F2: صندوق سرمایه‌گذاری ثابت آوند مفید | G2: صندوق سرمایه‌گذاری ثابت آوند مفید | H2: صندوق سرمایه‌گذاری ثابت آوند مفید | I2: صندوق سرمایه‌گذاری ثابت آوند مفید | J2: صندوق سرمایه‌گذاری ثابت آوند مفید | K2: صندوق سرمایه‌گذاری ثابت آوند مفید | L2: صندوق سرمایه‌گذاری ثابت آوند مفید | M2: صندوق سرمایه‌گذاری ثابت آوند مفید | N2: صندوق سرمایه‌گذاری ثابت آوند مفید | O2: صندوق سرمایه‌گذاری ثابت آوند مفید | P2: صندوق سرمایه‌گذاری ثابت آوند مفید | Q2: صندوق سرمایه‌گذاری ثابت آوند مفید
A3: صورت وضعیت پورتفوی | B3: صورت وضعیت پورتفوی | C3: صورت وضعیت پورتفوی | D3: صورت وضعیت پورتفوی | E3: صورت وضعیت پورتفوی | F3: صورت وضعیت پورتفوی | G3: صورت وضعیت پورتفوی | H3: صورت وضعیت پورتفوی | I3: صورت وضعیت پورتفوی | J3: صورت وضعیت پورتفوی | K3: صورت وضعیت پورتفوی | L3: صورت وضعیت پورتفوی | M3: صورت وضعیت پورتفوی | N3: صورت وضعیت پورتفوی | O3: صورت وضعیت پورتفوی | P3: صورت وضعیت پورتفوی | Q3: صورت وضعیت پورتفوی
A4: برای ماه منتهی به 1405/06/31 | B4: برای ماه منتهی به 1405/06/31 | C4: برای ماه منتهی به 1405/06/31 | D4: برای ماه منتهی به 1405/06/31 | E4: برای ماه منتهی به 1405/06/31 | F4: برای ماه منتهی به 1405/06/31 | G4: برای ماه منتهی به 1405/06/31 | H4: برای ماه منتهی به 1405/06/31 | I4: برای ماه منتهی به 1405/06/31 | J4: برای ماه منتهی به 1405/06/31 | K4: برای ماه منتهی به 1405/06/31 | L4: برای ماه منتهی به 1405/06/31 | M4: برای ماه منتهی به 1405/06/31 | N4: برای ماه منتهی به 1405/06/31 | O4: برای ماه منتهی به 1405/06/31 | P4: برای ماه منتهی به 1405/06/31 | Q4: برای ماه منتهی به 1405/06/31
A6: نام شرکت | C6: 1405/05/31 | D6: 1405/05/31 | E6: 1405/05/31 | F6: 1405/05/31 | G6: 1405/05/31 | H6: 1405/05/31 | I6: 1405/05/31 | K6: 1405/06/31 | L6: 1405/06/31 | M6: 1405/06/31 | N6: 1405/06/31 | O6: 1405/06/31 | P6: 1405/06/31 | Q6: 1405/06/31
A7: نام شرکت | C7: تعداد اوراق تبعی | E7: قیمت اعمال | G7: تاریخ اعمال | I7: نرخ موثر | K7: تعداد اوراق تبعی | M7: قیمت اعمال | O7: تاریخ اعمال | Q7: نرخ موثر
A8: اختیارف ت میدکو-7290-05/08/16 | C8: 7000000 | E8: 7204 | G8: 1405/08/16 | I8: 1.00099945588289 | K8: 7000000 | M8: 7204 | O8: 1405/08/16 | Q8: 1.00099945588289
A9: اختیارف.ت.هرمز-2193-050818 | C9: 9090119780 | E9: 1949 | G9: 1405/08/18 | I9: 1.00058257842324 | K9: 9090119780 | M9: 1949 | O9: 1405/08/18 | Q9: 1.00058257842324

Sheet اوراق مشارکت
A2: صندوق سرمایه‌گذاری ثابت آوند مفید | B2: صندوق سرمایه‌گذاری ثابت آوند مفید | C2: صندوق سرمایه‌گذاری ثابت آوند مفید | D2: صندوق سرمایه‌گذاری ثابت آوند مفید | E2: صندوق سرمایه‌گذاری ثابت آوند مفید | F2: صندوق سرمایه‌گذاری ثابت آوند مفید | G2: صندوق سرمایه‌گذاری ثابت آوند مفید | H2: صندوق سرمایه‌گذاری ثابت آوند مفید | I2: صندوق سرمایه‌گذاری ثابت آوند مفید | J2: صندوق سرمایه‌گذاری ثابت آوند مفید | K2: صندوق سرمایه‌گذاری ثابت آوند مفید | L2: صندوق سرمایه‌گذاری ثابت آوند مفید | M2: صندوق سرمایه‌گذاری ثابت آوند مفید | N2: صندوق سرمایه‌گذاری ثابت آوند مفید | O2: صندوق سرمایه‌گذاری ثابت آوند مفید | P2: صندوق سرمایه‌گذاری ثابت آوند مفید | Q2: صندوق سرمایه‌گذاری ثابت آوند مفید | R2: صندوق سرمایه‌گذاری ثابت آوند مفید | S2: صندوق سرمایه‌گذاری ثابت آوند مفید | T2: صندوق سرمایه‌گذاری ثابت آوند مفید | U2: صندوق سرمایه‌گذاری ثابت آوند مفید | V2: صندوق سرمایه‌گذاری ثابت آوند مفید | W2: صندوق سرمایه‌گذاری ثابت آوند مفید | X2: صندوق سرمایه‌گذاری ثابت آوند مفید | Y2: صندوق سرمایه‌گذاری ثابت آوند مفید
A3: صورت وضعیت پورتفوی | B3: صورت وضعیت پورتفوی | C3: صورت وضعیت پورتفوی | D3: صورت وضعیت پورتفوی | E3: صورت وضعیت پورتفوی | F3: صورت وضعیت پورتفوی | G3: صورت وضعیت پورتفوی | H3: صورت وضعیت پورتفوی | I3: صورت وضعیت پورتفوی | J3: صورت وضعیت پورتفوی | K3: صورت وضعیت پورتفوی | L3: صورت وضعیت پورتفوی | M3: صورت وضعیت پورتفوی | N3: صورت وضعیت پورتفوی | O3: صورت وضعیت پورتفوی | P3: صورت وضعیت پورتفوی | Q3: صورت وضعیت پورتفوی | R3: صورت وضعیت پورتفوی | S3: صورت وضعیت پورتفوی | T3: صورت وضعیت پورتفوی | U3: صورت وضعیت پورتفوی | V3: صورت وضعیت پورتفوی | W3: صورت وضعیت پورتفوی | X3: صورت وضعیت پورتفوی | Y3: صورت وضعیت پورتفوی
A4: برای ماه منتهی به 1405/06/31 | B4: برای ماه منتهی به 1405/06/31 | C4: برای ماه منتهی به 1405/06/31 | D4: برای ماه منتهی به 1405/06/31 | E4: برای ماه منتهی به 1405/06/31 | F4: برای ماه منتهی به 1405/06/31 | G4: برای ماه منتهی به 1405/06/31 | H4: برای ماه منتهی به 1405/06/31 | I4: برای ماه منتهی به 1405/06/31 | J4: برای ماه منتهی به 1405/06/31 | K4: برای ماه منتهی به 1405/06/31 | L4: برای ماه منتهی به 1405/06/31 | M4: برای ماه منتهی به 1405/06/31 | N4: برای ماه منتهی به 1405/06/31 | O4: برای ماه منتهی به 1405/06/31 | P4: برای ماه منتهی به 1405/06/31 | Q4: برای ماه منتهی به 1405/06/31 | R4: برای ماه منتهی به 1405/06/31 | S4: برای ماه منتهی به 1405/06/31 | T4: برای ماه منتهی به 1405/06/31 | U4: برای ماه منتهی به 1405/06/31 | V4: برای ماه منتهی به 1405/06/31 | W4: برای ماه منتهی به 1405/06/31 | X4: برای ماه منتهی به 1405/06/31 | Y4: برای ماه منتهی به 1405/06/31
A6: اطلاعات اوراق بهادار با درآمد ثابت | C6: 1405/05/31 | D6: 1405/05/31 | E6: 1405/05/31 | F6: 1405/05/31 | G6: 1405/05/31 | I6: تغییرات طی دوره | J6: تغییرات طی دوره | K6: تغییرات طی دوره | L6: تغییرات طی دوره | M6: تغییرات طی دوره | N6: تغییرات طی دوره | O6: تغییرات طی دوره | Q6: 1405/06/31 | R6: 1405/06/31 | S6: 1405/06/31 | T6: 1405/06/31 | U6: 1405/06/31 | V6: 1405/06/31 | W6: 1405/06/31 | X6: 1405/06/31 | Y6: 1405/06/31
A7: نام اوراق | C7: تعداد | E7: بهای تمام شده | G7: خالص ارزش فروش | I7: خرید طی دوره | J7: خرید طی دوره | K7: خرید طی دوره | M7: فروش طی دوره | N7: فروش طی دوره | O7: فروش طی دوره | Q7: تعداد | S7: قیمت بازار هر ورقه | U7: بهای تمام شده | W7: خالص ارزش فروش | Y7: درصد به کل دارایی‌های صندوق
A8: نام اوراق | C8: تعداد | E8: بهای تمام شده | G8: خالص ارزش فروش | I8: تعداد | K8: بهای تمام شده | M8: تعداد | O8: مبلغ فروش | Q8: تعداد | S8: قیمت بازار هر ورقه | U8: بهای تمام شده | W8: خالص ارزش فروش | Y8: درصد به کل دارایی‌های صندوق
A9: سلف استاندارد خودروی کرمان | C9: 3207600 | E9: 4947864134400 | G9: 6977807071540 | I9: 0 | K9: 0 | M9: 0 | O9: 0 | Q9: 3207600 | S9: 2212349 | U9: 4947864134400 | W9: 7091186791888 | Y9: 0.012925864
A10: سلف شیرفرادما سولیکو | C10: 456251 | E10: 1962768989450 | G10: 2701005920000 | I10: 0 | K10: 0 | M10: 456251 | O10: 2698807246431 | Q10: 0 | S10: 0 | U10: 0 | W10: 0 | Y10: 0
A11: سلف موازی میلگرد تبریز | C11: 252190 | E11: 735998861700 | G11: 1021964897079 | I11: 0 | K11: 0 | M11: 0 | O11: 0 | Q11: 252190 | S11: 4147642 | U11: 735998861700 | W11: 1045235490448 | Y11: 0.0019052625
A12: سلف موازی هیدروکربن آفتاب053 | C12: 963700 | E12: 3999707714200 | G12: 5393669888685 | I12: 0 | K12: 0 | M12: 0 | O12: 0 | Q12: 963700 | S12: 5686058 | U12: 3999707714200 | W12: 5475682193111 | Y12: 0.0099811114
A13: اجاره اهداف مفید 14070531 | C13: 1440000 | E13: 1440000000000 | G13: 1439670600000 | I13: 0 | K13: 0 | M13: 0 | O13: 0 | Q13: 1440000 | S13: 1000000 | U13: 1440000000000 | W13: 1439670600000 | Y13: 0.0026242415
A14: اسناد خزانه-م11بودجه02-050720 | C14: 46184 | E14: 26340592963 | G14: 44140419048 | I14: 0 | K14: 0 | M14: 0 | O14: 0 | Q14: 46184 | S14: 983010 | U14: 26340592963 | W14: 45388948742 | Y14: 8.273529e-05
A15: اسناد خزانه-م12بودجه02-050916 | C15: 73594 | E15: 40178911377 | G15: 66822781591 | I15: 0 | K15: 0 | M15: 73594 | O15: 68584218935 | Q15: 0 | S15: 0 | U15: 0 | W15: 0 | Y15: 0
A16: اسناد خزانه-م13بودجه02-051021 | C16: 339795 | E16: 180862074280 | G16: 300048486054 | I16: 0 | K16: 0 | M16: 0 | O16: 0 | Q16: 339795 | S16: 906000 | U16: 180862074280 | W16: 307783848335 | Y16: 0.00056103053
A17: اسنادخزانه-م10بودجه02-051112 | C17: 52417 | E17: 27446922399 | G17: 45168925884 | I17: 0 | K17: 0 | M17: 0 | O17: 0 | Q17: 52417 | S17: 883260 | U17: 27446922399 | W17: 46287248789 | Y17: 8.4372717e-05
A18: اسنادخزانه-م2بودجه02-050923 | C18: 1010965 | E18: 472758218038 | G18: 912197309272 | I18: 0 | K18: 0 | M18: 399340 | O18: 370140844144 | Q18: 611625 | S18: 929000 | U18: 286014595070 | W18: 568069649335 | Y18: 0.0010354813
A19: صکوک اجاره وکغدیر707-بدون ضامن | C19: 1000000 | E19: 1000011326250 | G19: 999771250000 | I19: 0 | K19: 0 | M19: 0 | O19: 0 | Q19: 1000000 | S19: 1000000 | U19: 1000011326250 | W19: 999771250000 | Y19: 0.00182239
A20: صکوک مرابحه پاکشو603-3ماهه23% | C20: 2390000 | E20: 2390000000000 | G20: 2389453287500 | I20: 0 | K20: 0 | M20: 0 | O20: 0 | Q20: 2390000 | S20: 1000000 | U20: 2390000000000 | W20: 2389453287500 | Y20: 0.004355512
... A85: شهرداری تهران | C85: 5000000 | E85: 5000000000000 | G85: 5000000000000 | I85: 0 | K85: 0 | M85: 0 | O85: 0 | Q85: 5000000 | S85: 1000000 | U85: 5000000000000 | W85: 5000000000000 | Y85: 0.0091140346
E86: =SUM(E9:E85) -> 240903143236160 | G86: =SUM(G9:G85) -> 244145519698524 | K86: =SUM(K9:K85) -> 189953712380417 | O86: =SUM(O9:O85) -> 36227678148508 | U86: =SUM(U9:U85) -> 396505887225606 | W86: =SUM(W9:W85) -> 400531305913663 | Y86: =SUM(Y9:Y85) -> 0.73009124

Sheet تعدیل قیمت
A2: صندوق سرمایه‌گذاری ثابت آوند مفید | B2: صندوق سرمایه‌گذاری ثابت آوند مفید | C2: صندوق سرمایه‌گذاری ثابت آوند مفید | D2: صندوق سرمایه‌گذاری ثابت آوند مفید | E2: صندوق سرمایه‌گذاری ثابت آوند مفید | F2: صندوق سرمایه‌گذاری ثابت آوند مفید | G2: صندوق سرمایه‌گذاری ثابت آوند مفید | H2: صندوق سرمایه‌گذاری ثابت آوند مفید | I2: صندوق سرمایه‌گذاری ثابت آوند مفید | J2: صندوق سرمایه‌گذاری ثابت آوند مفید | K2: صندوق سرمایه‌گذاری ثابت آوند مفید | L2: صندوق سرمایه‌گذاری ثابت آوند مفید | M2: صندوق سرمایه‌گذاری ثابت آوند مفید
A3: صورت وضعیت پورتفوی | B3: صورت وضعیت پورتفوی | C3: صورت وضعیت پورتفوی | D3: صورت وضعیت پورتفوی | E3: صورت وضعیت پورتفوی | F3: صورت وضعیت پورتفوی | G3: صورت وضعیت پورتفوی | H3: صورت وضعیت پورتفوی | I3: صورت وضعیت پورتفوی | J3: صورت وضعیت پورتفوی | K3: صورت وضعیت پورتفوی | L3: صورت وضعیت پورتفوی | M3: صورت وضعیت پورتفوی
A4: برای ماه منتهی به 1405/06/31 | B4: برای ماه منتهی به 1405/06/31 | C4: برای ماه منتهی به 1405/06/31 | D4: برای ماه منتهی به 1405/06/31 | E4: برای ماه منتهی به 1405/06/31 | F4: برای ماه منتهی به 1405/06/31 | G4: برای ماه منتهی به 1405/06/31 | H4: برای ماه منتهی به 1405/06/31 | I4: برای ماه منتهی به 1405/06/31 | J4: برای ماه منتهی به 1405/06/31 | K4: برای ماه منتهی به 1405/06/31 | L4: برای ماه منتهی به 1405/06/31 | M4: برای ماه منتهی به 1405/06/31
A6: نام شرکت | C6: 1405/06/31 | D6: 1405/06/31 | E6: 1405/06/31 | F6: 1405/06/31 | G6: 1405/06/31 | H6: 1405/06/31 | I6: 1405/06/31 | J6: 1405/06/31 | K6: 1405/06/31 | L6: 1405/06/31 | M6: 1405/06/31
A7: نام شرکت | C7: تعداد | E7: قیمت پایانی | G7: قیمت پس از تعدیل | I7: درصد تعدیل | K7: ارزش ناشی از تعدیل قیمت | M7: دلایل
A8: توسعه معادن وص.معدنی خاورمیانه | C8: 7000000 | E8: 6880 | G8: 6133 | I8: -10.86% | K8: 42931000000 | M8: جلوگیری از نوسانات بازار
A9: صکوک مرابحه دعبید69-3ماهه23% | C9: 2000000 | E9: 989920 | G9: 1000000 | I9: 1.02% | K9: 2000000000000 | M9: جلوگیری از نوسانات بازار
A10: مرابحه عام دولت159-ش.خ050811 | C10: 50000000 | E10: 973960 | G10: 990995 | I10: 1.75% | K10: 49549750000000 | M10: جلوگیری از نوسانات بازار
A11: مرابحه عام دولت 165-ش.خ051212 | C11: 10120000 | E11: 949750 | G11: 971254 | I11: 2.26% | K11: 9829090480000 | M11: جلوگیری از نوسانات بازار
A12: مرابحه عام دولت175-ش.خ060327 | C12: 3000000 | E12: 944260 | G12: 961150 | I12: 1.79% | K12: 2883450000000 | M12: جلوگیری از نوسانات بازار
A13: مشارکت ش قم0612-3 ماهه 20.5% | C13: 995000 | E13: 1009999 | G13: 1000000 | I13: -0.99% | K13: 995000000000 | M13: جلوگیری از نوسانات بازار
A14: مرابحه عام دولت194-ش.خ060504 | C14: 2098065 | E14: 912150 | G14: 954849 | I14: 4.68% | K14: 2003335267185 | M14: جلوگیری از نوسانات بازار
A15: سلف موازی میلگرد تبریز | C15: 252190 | E15: 4252758.3 | G15: 4147642 | I15: -2.47% | K15: 1045993835980 | M15: جلوگیری از نوسانات بازار
A16: مرابحه عام دولت201-ش.خ060430 | C16: 7793740 | E16: 908550 | G16: 922503 | I16: 1.54% | K16: 7189748531220 | M16: جلوگیری از نوسانات بازار
A17: مرابحه عام دولت206-ش.خ051114 | C17: 6048600 | E17: 960650 | G17: 961251 | I17: 0.06% | K17: 5814222798600 | M17: جلوگیری از نوسانات بازار
A18: مرابحه عام دولت208-ش.خ060714 | C18: 3563925 | E18: 886580 | G18: 892087 | I18: 0.62% | K18: 3179331161475 | M18: جلوگیری از نوسانات بازار
A19: مرابحه عام دولت210-ش.خ051121 | C19: 15171600 | E19: 944360 | G19: 921094 | I19: -2.46% | K19: 13974469730400 | M19: جلوگیری از نوسانات بازار
... A52: صکوک مرابحه گل گهر760-3ماهه23% | C52: 9800000 | E52: 1010000 | G52: 1000000 | I52: -0.99% | K52: 9800000000000 | M52: جلوگیری از نوسانات بازار
K53: =SUM(K8:K52) -> 288350740582308

Sheet سپرده
A2: صندوق سرمایه‌گذاری ثابت آوند مفید | B2: صندوق سرمایه‌گذاری ثابت آوند مفید | C2: صندوق سرمایه‌گذاری ثابت آوند مفید | D2: صندوق سرمایه‌گذاری ثابت آوند مفید | E2: صندوق سرمایه‌گذاری ثابت آوند مفید | F2: صندوق سرمایه‌گذاری ثابت آوند مفید | G2: صندوق سرمایه‌گذاری ثابت آوند مفید | H2: صندوق سرمایه‌گذاری ثابت آوند مفید | I2: صندوق سرمایه‌گذاری ثابت آوند مفید | J2: صندوق سرمایه‌گذاری ثابت آوند مفید | K2: صندوق سرمایه‌گذاری ثابت آوند مفید
A3: صورت وضعیت پورتفوی | B3: صورت وضعیت پورتفوی | C3: صورت وضعیت پورتفوی | D3: صورت وضعیت پورتفوی | E3: صورت وضعیت پورتفوی | F3: صورت وضعیت پورتفوی | G3: صورت وضعیت پورتفوی | H3: صورت وضعیت پورتفوی | I3: صورت وضعیت پورتفوی | J3: صورت وضعیت پورتفوی | K3: صورت وضعیت پورتفوی
A4: برای ماه منتهی به 1405/06/31 | B4: برای ماه منتهی به 1405/06/31 | C4: برای ماه منتهی به 1405/06/31 | D4: برای ماه منتهی به 1405/06/31 | E4: برای ماه منتهی به 1405/06/31 | F4: برای ماه منتهی به 1405/06/31 | G4: برای ماه منتهی به 1405/06/31 | H4: برای ماه منتهی به 1405/06/31 | I4: برای ماه منتهی به 1405/06/31 | J4: برای ماه منتهی به 1405/06/31 | K4: برای ماه منتهی به 1405/06/31
A6: سپرده | C6: 1405/05/31 | E6: تغییرات طی دوره | F6: تغییرات طی دوره | G6: تغییرات طی دوره | I6: 1405/06/31 | J6: 1405/06/31 | K6: 1405/06/31
A7: سپرده | C7: مبلغ | E7: افزایش | G7: کاهش | I7: مبلغ | K7: درصد به کل دارایی‌ها
A8: بانک پاسارگاد هفت تیر | C8: 9448528 | E8: 61769879477028 | G8: 61769878722000 | I8: 10203556 | K8: 1.8599112e-08
A9: بانک خاورمیانه ظفر | C9: 223606059435 | E9: 291395269713986 | G9: 288489597719927 | I9: 3129278053494 | K9: 0.0057040697
A10: بانک مسکن دولت | C10: 9367778 | E10: 169639950012 | G10: 169639540000 | I10: 9777790 | K10: 1.7823023e-08
A11: بانک پاسارگاد هفت تیر | C11: 10176922 | E11: 0 | G11: 0 | I11: 10176922 | K11: 1.8550564e-08
A12: بانک ملت شعبه مستقل مرکزی | C12: 10106244 | E12: 42820 | G12: 0 | I12: 10149064 | K12: 1.8499784e-08
A13: بانک تجارت حافظ جنوبی | C13: 1525992578528 | E13: 59454671623148 | G13: 60902572118561 | I13: 78092083115 | K13: 0.00014234679
A14: بانک ملت چهار راه جهان کودک | C14: 10315932 | E14: 43538 | G14: 0 | I14: 10359470 | K14: 1.8883314e-08
A15: بانک صادرات بورس کالا | C15: 10540713 | E15: 41308817028262 | G15: 41273843888998 | I15: 34983679977 | K15: 6.3768494e-05
A16: بانک شهر کامرانیه | C16: 252297189 | E16: 24987175931239 | G16: 24987417845069 | I16: 10383359 | K16: 1.8926859e-08
A17: بانک رفاه دادمان | C17: 10048233 | E17: 47556753797086 | G17: 47556758415000 | I17: 5430319 | K17: 9.8984231e-09
A18: بانک تجارت فاطمی | C18: 3000000000000 | E18: 0 | G18: 3000000000000 | I18: 0 | K18: 0
A19: بانک شهر مرکزی قم | C19: 10099003 | E19: 879041095890 | G19: 879049525000 | I19: 1669893 | K19: 3.0438925e-09
... A94: بانک صادرات زنجان | C94: 0 | E94: 4890000000000 | G94: 0 | I94: 4890000000000 | K94: 0.0089135258
C95: =SUM(C8:C94) -> 229834953656276 | E95: =SUM(E8:E94) -> 566681248796382 | G95: =SUM(G8:G94) -> 703353758404555 | I95: =SUM(I8:I94) -> 93162444048103 | K95: =SUM(K8:K94) -> 0.16981715

Sheet جمع درآمدها
A2: صندوق سرمایه‌گذاری ثابت آوند مفید | B2: صندوق سرمایه‌گذاری ثابت آوند مفید | C2: صندوق سرمایه‌گذاری ثابت آوند مفید | D2: صندوق سرمایه‌گذاری ثابت آوند مفید | E2: صندوق سرمایه‌گذاری ثابت آوند مفید | F2: صندوق سرمایه‌گذاری ثابت آوند مفید | G2: صندوق سرمایه‌گذاری ثابت آوند مفید
A3: صورت وضعیت درآمدها | B3: صورت وضعیت درآمدها | C3: صورت وضعیت درآمدها | D3: صورت وضعیت درآمدها | E3: صورت وضعیت درآمدها | F3: صورت وضعیت درآمدها | G3: صورت وضعیت درآمدها
A4: برای ماه منتهی به 1405/06/31 | B4: برای ماه منتهی به 1405/06/31 | C4: برای ماه منتهی به 1405/06/31 | D4: برای ماه منتهی به 1405/06/31 | E4: برای ماه منتهی به 1405/06/31 | F4: برای ماه منتهی به 1405/06/31 | G4: برای ماه منتهی به 1405/06/31
A6: توضیحات | C6: مبلغ | E6: درصد از کل درآمدها | G6: درصد به کل دارایی‌های صندوق
A7: سرمایه‌گذاری در سهام | C7: =+'سرمایه‌گذاری در سهام'!I11 -> 307168273499 | E7: =+C7/$C$12 -> 0.020064807 | G7: 0.00055990845
A8: سرمایه‌گذاری در صندوق | C8: =+'سرمایه‌گذاری در صندوق'!I19 -> 175107886252 | E8: =+C8/$C$12 -> 0.011438375 | G8: 0.00031918787
A9: سرمایه‌گذاری در اوراق بهادار | C9: =+'سرمایه‌گذاری در اوراق بهادار'!I87 -> 8397444717959 | E9: =+C9/$C$12 -> 0.54853681 | G9: 0.01530692
A10: درآمد سپرده بانکی | C10: =+'درآمد سپرده بانکی'!C147 -> 5107985386980 | E10: =+C10/$C$12 -> 0.33366317 | G10: 0.0093108711
A11: سایر درآمد ها | C11: =+'سایر درآمدها'!C11 -> 1321101663541 | E11: =+C11/$C$12 -> 0.086296834 | G11: 0.0024081133
C12: =SUM(C7:C11) -> 15308807928231 | E12: =SUM(E7:E11) -> 1 | G12: =SUM(G7:G11) -> 0.027905001

Sheet سایر درآمدها
A2: صندوق سرمایه‌گذاری ثابت آوند مفید | B2: صندوق سرمایه‌گذاری ثابت آوند مفید | C2: صندوق سرمایه‌گذاری ثابت آوند مفید | D2: صندوق سرمایه‌گذاری ثابت آوند مفید | E2: صندوق سرمایه‌گذاری ثابت آوند مفید
A3: صورت وضعیت درآمدها | B3: صورت وضعیت درآمدها | C3: صورت وضعیت درآمدها | D3: صورت وضعیت درآمدها | E3: صورت وضعیت درآمدها
A4: برای ماه منتهی به 1405/06/31 | B4: برای ماه منتهی به 1405/06/31 | C4: برای ماه منتهی به 1405/06/31 | D4: برای ماه منتهی به 1405/06/31 | E4: برای ماه منتهی به 1405/06/31
E5: از ابتدای سال مالی
A6: سایر درآمدها | C6: طی ماه | E6: تا پایان ماه
A7: سایر درآمدها | C7: مبلغ | E7: مبلغ
A8: سایر درآمدها | C8: 0 | E8: 1500000
A9: معین برای سایر درآمدهای تنزیل سود بانک | C9: 0 | E9: 35079105679
A10: درآمد ناشی از تعهد پذیره نویسی | C10: 1321101663541 | E10: 3183006305331
C11: =SUM(C8:C10) -> 1321101663541 | E11: =SUM(E8:E10) -> 3218086911010

Sheet سرمایه‌گذاری در سهام
A2: صندوق سرمایه‌گذاری ثابت آوند مفید | B2: صندوق سرمایه‌گذاری ثابت آوند مفید | C2: صندوق سرمایه‌گذاری ثابت آوند مفید | D2: صندوق سرمایه‌گذاری ثابت آوند مفید | E2: صندوق سرمایه‌گذاری ثابت آوند مفید | F2: صندوق سرمایه‌گذاری ثابت آوند مفید | G2: صندوق سرمایه‌گذاری ثابت آوند مفید | H2: صندوق سرمایه‌گذاری ثابت آوند مفید | I2: صندوق سرمایه‌گذاری ثابت آوند مفید | J2: صندوق سرمایه‌گذاری ثابت آوند مفید | K2: صندوق سرمایه‌گذاری ثابت آوند مفید | L2: صندوق سرمایه‌گذاری ثابت آوند مفید | M2: صندوق سرمایه‌گذاری ثابت آوند مفید | N2: صندوق سرمایه‌گذاری ثابت آوند مفید | O2: صندوق سرمایه‌گذاری ثابت آوند مفید | P2: صندوق سرمایه‌گذاری ثابت آوند مفید | Q2: صندوق سرمایه‌گذاری ثابت آوند مفید | R2: صندوق سرمایه‌گذاری ثابت آوند مفید | S2: صندوق سرمایه‌گذاری ثابت آوند مفید | T2: صندوق سرمایه‌گذاری ثابت آوند مفید | U2: صندوق سرمایه‌گذاری ثابت آوند مفید
A3: صورت وضعیت درآمدها | B3: صورت وضعیت درآمدها | C3: صورت وضعیت درآمدها | D3: صورت وضعیت درآمدها | E3: صورت وضعیت درآمدها | F3: صورت وضعیت درآمدها | G3: صورت وضعیت درآمدها | H3: صورت وضعیت درآمدها | I3: صورت وضعیت درآمدها | J3: صورت وضعیت درآمدها | K3: صورت وضعیت درآمدها | L3: صورت وضعیت درآمدها | M3: صورت وضعیت درآمدها | N3: صورت وضعیت درآمدها | O3: صورت وضعیت درآمدها | P3: صورت وضعیت درآمدها | Q3: صورت وضعیت درآمدها | R3: صورت وضعیت درآمدها | S3: صورت وضعیت درآمدها | T3: صورت وضعیت درآمدها | U3: صورت وضعیت درآمدها
A4: برای ماه منتهی به 1405/06/31 | B4: برای ماه منتهی به 1405/06/31 | C4: برای ماه منتهی به 1405/06/31 | D4: برای ماه منتهی به 1405/06/31 | E4: برای ماه منتهی به 1405/06/31 | F4: برای ماه منتهی به 1405/06/31 | G4: برای ماه منتهی به 1405/06/31 | H4: برای ماه منتهی به 1405/06/31 | I4: برای ماه منتهی به 1405/06/31 | J4: برای ماه منتهی به 1405/06/31 | K4: برای ماه منتهی به 1405/06/31 | L4: برای ماه منتهی به 1405/06/31 | M4: برای ماه منتهی به 1405/06/31 | N4: برای ماه منتهی به 1405/06/31 | O4: برای ماه منتهی به 1405/06/31 | P4: برای ماه منتهی به 1405/06/31 | Q4: برای ماه منتهی به 1405/06/31 | R4: برای ماه منتهی به 1405/06/31 | S4: برای ماه منتهی به 1405/06/31 | T4: برای ماه منتهی به 1405/06/31 | U4: برای ماه منتهی به 1405/06/31
A6: نام شرکت | C6: طی ماه | D6: طی ماه | E6: طی ماه | F6: طی ماه | G6: طی ماه | H6: طی ماه | I6: طی ماه | J6: طی ماه | K6: طی ماه | M6: از ابتدای سال مالی تا پایان ماه | N6: از ابتدای سال مالی تا پایان ماه | O6: از ابتدای سال مالی تا پایان ماه | P6: از ابتدای سال مالی تا پایان ماه | Q6: از ابتدای سال مالی تا پایان ماه | R6: از ابتدای سال مالی تا پایان ماه | S6: از ابتدای سال مالی تا پایان ماه | T6: از ابتدای سال مالی تا پایان ماه | U6: از ابتدای سال مالی تا پایان ماه
A7: نام شرکت | C7: درآمد سود سهام | E7: درآمد تغییر ارزش | G7: درآمد فروش | I7: مبلغ | K7: درصد از کل درآمدها | M7: درآمد سود سهام | O7: درآمد تغییر ارزش | Q7: درآمد فروش | S7: مبلغ | U7: درصد از کل درآمدها
A8: ملی صنایع مس ایران | C8: 0 | E8: 0 | G8: 0 | I8: 0 | K8: =+I8/$I$11 -> 0 | M8: 0 | O8: 0 | Q8: 17480548969 | S8: =++O8+Q8+M8 -> 17480548969 | U8: =+S8/$S$11 -> 0.33724206
A9: توسعه معادن وص.معدنی خاورمیانه | C9: 0 | E9: 0 | G9: 0 | I9: 0 | K9: =+I9/$I$11 -> 0 | M9: 542878320 | O9: -7 | Q9: 5036913001 | S9: =++O9+Q9+M9 -> 5579791314 | U9: =+S9/$S$11 -> 0.10764767
A10: فولاد هرمزگان جنوب | C10: 0 | E10: 307168273499 | G10: 0 | I10: 307168273499 | K10: =+I10/$I$11 -> 1 | M10: 832831621949 | O10: -804058127688 | Q10: 0 | S10: =++O10+Q10+M10 -> 28773494261 | U10: =+S10/$S$11 -> 0.55511028
C11: =SUM(C8:C10) -> 0 | E11: =SUM(E8:E10) -> 307168273499 | G11: =SUM(G8:G10) -> 0 | I11: =SUM(I8:I10) -> 307168273499 | K11: =SUM(K8:K10) -> 1 | M11: =SUM(M8:M10) -> 833374500269 | O11: =SUM(O8:O10) -> -804058127695 | Q11: =SUM(Q8:Q10) -> 22517461970 | S11: =SUM(S8:S10) -> 51833834544 | U11: =SUM(U8:U10) -> 1

Sheet سرمایه‌گذاری در صندوق
A2: صندوق سرمایه‌گذاری ثابت آوند مفید | B2: صندوق سرمایه‌گذاری ثابت آوند مفید | C2: صندوق سرمایه‌گذاری ثابت آوند مفید | D2: صندوق سرمایه‌گذاری ثابت آوند مفید | E2: صندوق سرمایه‌گذاری ثابت آوند مفید | F2: صندوق سرمایه‌گذاری ثابت آوند مفید | G2: صندوق سرمایه‌گذاری ثابت آوند مفید | H2: صندوق سرمایه‌گذاری ثابت آوند مفید | I2: صندوق سرمایه‌گذاری ثابت آوند مفید | J2: صندوق سرمایه‌گذاری ثابت آوند مفید | K2: صندوق سرمایه‌گذاری ثابت آوند مفید | L2: صندوق سرمایه‌گذاری ثابت آوند مفید | M2: صندوق سرمایه‌گذاری ثابت آوند مفید | N2: صندوق سرمایه‌گذاری ثابت آوند مفید | O2: صندوق سرمایه‌گذاری ثابت آوند مفید | P2: صندوق سرمایه‌گذاری ثابت آوند مفید | Q2: صندوق سرمایه‌گذاری ثابت آوند مفید | R2: صندوق سرمایه‌گذاری ثابت آوند مفید | S2: صندوق سرمایه‌گذاری ثابت آوند مفید | T2: صندوق سرمایه‌گذاری ثابت آوند مفید | U2: صندوق سرمایه‌گذاری ثابت آوند مفید
A3: صورت وضعیت درآمدها | B3: صورت وضعیت درآمدها | C3: صورت وضعیت درآمدها | D3: صورت وضعیت درآمدها | E3: صورت وضعیت درآمدها | F3: صورت وضعیت درآمدها | G3: صورت وضعیت درآمدها | H3: صورت وضعیت درآمدها | I3: صورت وضعیت درآمدها | J3: صورت وضعیت درآمدها | K3: صورت وضعیت درآمدها | L3: صورت وضعیت درآمدها | M3: صورت وضعیت درآمدها | N3: صورت وضعیت درآمدها | O3: صورت وضعیت درآمدها | P3: صورت وضعیت درآمدها | Q3: صورت وضعیت درآمدها | R3: صورت وضعیت درآمدها | S3: صورت وضعیت درآمدها | T3: صورت وضعیت درآمدها | U3: صورت وضعیت درآمدها
A4: برای ماه منتهی به 1405/06/31 | B4: برای ماه منتهی به 1405/06/31 | C4: برای ماه منتهی به 1405/06/31 | D4: برای ماه منتهی به 1405/06/31 | E4: برای ماه منتهی به 1405/06/31 | F4: برای ماه منتهی به 1405/06/31 | G4: برای ماه منتهی به 1405/06/31 | H4: برای ماه منتهی به 1405/06/31 | I4: برای ماه منتهی به 1405/06/31 | J4: برای ماه منتهی به 1405/06/31 | K4: برای ماه منتهی به 1405/06/31 | L4: برای ماه منتهی به 1405/06/31 | M4: برای ماه منتهی به 1405/06/31 | N4: برای ماه منتهی به 1405/06/31 | O4: برای ماه منتهی به 1405/06/31 | P4: برای ماه منتهی به 1405/06/31 | Q4: برای ماه منتهی به 1405/06/31 | R4: برای ماه منتهی به 1405/06/31 | S4: برای ماه منتهی به 1405/06/31 | T4: برای ماه منتهی به 1405/06/31 | U4: برای ماه منتهی به 1405/06/31
A6: نام شرکت | C6: طی ماه | D6: طی ماه | E6: طی ماه | F6: طی ماه | G6: طی ماه | H6: طی ماه | I6: طی ماه | J6: طی ماه | K6: طی ماه | M6: از ابتدای سال مالی تا پایان ماه | N6: از ابتدای سال مالی تا پایان ماه | O6: از ابتدای سال مالی تا پایان ماه | P6: از ابتدای سال مالی تا پایان ماه | Q6: از ابتدای سال مالی تا پایان ماه | R6: از ابتدای سال مالی تا پایان ماه | S6: از ابتدای سال مالی تا پایان ماه | T6: از ابتدای سال مالی تا پایان ماه | U6: از ابتدای سال مالی تا پایان ماه
A7: نام شرکت | C7: درآمد سود سهام | E7: درآمد تغییر ارزش | G7: درآمد فروش | I7: مبلغ | K7: درصد از کل درآمدها | M7: درآمد سود سهام | O7: درآمد تغییر ارزش | Q7: درآمد فروش | S7: مبلغ | U7: درصد از کل درآمدها
A8: صندوق سرمایه گذاری سهامی اهرمی موج فیروزه | C8: 0 | E8: 0 | G8: 0 | I8: =+G8+E8+C8 -> 0 | K8: =+I8/$I$19 -> 0 | M8: 0 | O8: 0 | Q8: 99351456709 | S8: =+Q8+O8+M8 -> 99351456709 | U8: =+S8/$S$19 -> 0.025582848
A9: صندوق سرمایه‌گذاری مشترک پیشتاز | C9: 0 | E9: 191207233085 | G9: 0 | I9: =+G9+E9+C9 -> 191207233085 | K9: =+I9/$I$19 -> 1.0919396 | M9: 0 | O9: 352058162995 | Q9: 0 | S9: =+Q9+O9+M9 -> 352058162995 | U9: =+S9/$S$19 -> 0.090654439
A10: صندوق س.توسعه اندوخته آینده-س | C10: 0 | E10: 45748034320 | G10: 0 | I10: =+G10+E10+C10 -> 45748034320 | K10: =+I10/$I$19 -> 0.26125628 | M10: 0 | O10: 303844813366 | Q10: 0 | S10: =+Q10+O10+M10 -> 303844813366 | U10: =+S10/$S$19 -> 0.078239575
A11: صندوق سرمایه‌گذاری مشترک پیشرو | C11: 0 | E11: 183578422720 | G11: 0 | I11: =+G11+E11+C11 -> 183578422720 | K11: =+I11/$I$19 -> 1.0483732 | M11: 0 | O11: 350665091392 | Q11: 0 | S11: =+Q11+O11+M11 -> 350665091392 | U11: =+S11/$S$19 -> 0.090295725
A12: صندوق س صنایع مفید4-بخشی | C12: 0 | E12: 9099232554 | G12: 0 | I12: =+G12+E12+C12 -> 9099232554 | K12: =+I12/$I$19 -> 0.051963579 | M12: 0 | O12: 14419700847 | Q12: 0 | S12: =+Q12+O12+M12 -> 14419700847 | U12: =+S12/$S$19 -> 0.0037130509
A13: صندوق طلای عیار مفید | C13: 0 | E13: 664749559062 | G13: 0 | I13: =+G13+E13+C13 -> 664749559062 | K13: =+I13/$I$19 -> 3.7962286 | M13: 0 | O13: 1416146877899 | Q13: 0 | S13: =+Q13+O13+M13 -> 1416146877899 | U13: =+S13/$S$19 -> 0.36465566
A14: صندوق س صنایع مفید1- بخشی | C14: 0 | E14: 93795008036 | G14: 0 | I14: =+G14+E14+C14 -> 93795008036 | K14: =+I14/$I$19 -> 0.53564126 | M14: 0 | O14: 282080123750 | Q14: 0 | S14: =+Q14+O14+M14 -> 282080123750 | U14: =+S14/$S$19 -> 0.072635201
A15: صندوق سرمایه‌گذاری مشترک امید توسعه | C15: 6611220500 | E15: 171495059770 | G15: 0 | I15: =+G15+E15+C15 -> 178106280270 | K15: =+I15/$I$19 -> 1.0171231 | M15: 19970547656 | O15: 341495983707 | Q15: 0 | S15: =+Q15+O15+M15 -> 361466531363 | U15: =+S15/$S$19 -> 0.093077079
A16: صندوق سرمایه‌گذاری بازنشستگی تکمیلی آتیه مفید | C16: 0 | E16: 187344246494 | G16: 0 | I16: =+G16+E16+C16 -> 187344246494 | K16: =+I16/$I$19 -> 1.069879 | M16: 0 | O16: 414371783456 | Q16: 0 | S16: =+Q16+O16+M16 -> 414371783456 | U16: =+S16/$S$19 -> 0.1067001
A17: صندوق س سهامی بیدار-اهرمی - واحد عادی | C17: 0 | E17: -1378215495860 | G17: 0 | I17: =+G17+E17+C17 -> -1378215495860 | K17: =+I17/$I$19 -> -7.8706649 | M17: 0 | O17: 289418296960 | Q17: 0 | S17: =+Q17+O17+M17 -> 289418296960 | U17: =+S17/$S$19 -> 0.074524769
A18: ص س. پروژه برق خورشیدی | C18: 0 | E18: -304634429 | G18: 0 | I18: =+G18+E18+C18 -> -304634429 | K18: =+I18/$I$19 -> -0.0017396957 | M18: 0 | O18: -304634429 | Q18: 0 | S18: =+Q18+O18+M18 -> -304634429 | U18: =+S18/$S$19 -> -7.84429e-05
C19: =SUM(C8:C18) -> 6611220500 | E19: =SUM(E8:E18) -> 168496665752 | G19: =SUM(G8:G18) -> 0 | I19: =SUM(I8:I18) -> 175107886252 | K19: =SUM(K8:K18) -> 1 | M19: =SUM(M8:M18) -> 19970547656 | O19: =SUM(O8:O18) -> 3764196199943 | Q19: =SUM(Q8:Q18) -> 99351456709 | S19: =SUM(S8:S18) -> 3883518204308 | U19: =SUM(U8:U18) -> 1

Sheet سرمایه‌گذاری در اوراق بهادار
A2: صندوق سرمایه‌گذاری ثابت آوند مفید | B2: صندوق سرمایه‌گذاری ثابت آوند مفید | C2: صندوق سرمایه‌گذاری ثابت آوند مفید | D2: صندوق سرمایه‌گذاری ثابت آوند مفید | E2: صندوق سرمایه‌گذاری ثابت آوند مفید | F2: صندوق سرمایه‌گذاری ثابت آوند مفید | G2: صندوق سرمایه‌گذاری ثابت آوند مفید | H2: صندوق سرمایه‌گذاری ثابت آوند مفید | I2: صندوق سرمایه‌گذاری ثابت آوند مفید | J2: صندوق سرمایه‌گذاری ثابت آوند مفید | K2: صندوق سرمایه‌گذاری ثابت آوند مفید | L2: صندوق سرمایه‌گذاری ثابت آوند مفید | M2: صندوق سرمایه‌گذاری ثابت آوند مفید | N2: صندوق سرمایه‌گذاری ثابت آوند مفید | O2: صندوق سرمایه‌گذاری ثابت آوند مفید | P2: صندوق سرمایه‌گذاری ثابت آوند مفید | Q2: صندوق سرمایه‌گذاری ثابت آوند مفید
A3: صورت وضعیت درآمدها | B3: صورت وضعیت درآمدها | C3: صورت وضعیت درآمدها | D3: صورت وضعیت درآمدها | E3: صورت وضعیت درآمدها | F3: صورت وضعیت درآمدها | G3: صورت وضعیت درآمدها | H3: صورت وضعیت درآمدها | I3: صورت وضعیت درآمدها | J3: صورت وضعیت درآمدها | K3: صورت وضعیت درآمدها | L3: صورت وضعیت درآمدها | M3: صورت وضعیت درآمدها | N3: صورت وضعیت درآمدها | O3: صورت وضعیت درآمدها | P3: صورت وضعیت درآمدها | Q3: صورت وضعیت درآمدها
A4: برای ماه منتهی به 1405/06/31 | B4: برای ماه منتهی به 1405/06/31 | C4: برای ماه منتهی به 1405/06/31 | D4: برای ماه منتهی به 1405/06/31 | E4: برای ماه منتهی به 1405/06/31 | F4: برای ماه منتهی به 1405/06/31 | G4: برای ماه منتهی به 1405/06/31 | H4: برای ماه منتهی به 1405/06/31 | I4: برای ماه منتهی به 1405/06/31 | J4: برای ماه منتهی به 1405/06/31 | K4: برای ماه منتهی به 1405/06/31 | L4: برای ماه منتهی به 1405/06/31 | M4: برای ماه منتهی به 1405/06/31 | N4: برای ماه منتهی به 1405/06/31 | O4: برای ماه منتهی به 1405/06/31 | P4: برای ماه منتهی به 1405/06/31 | Q4: برای ماه منتهی به 1405/06/31
A6: توضیحات | C6: طی ماه | D6: طی ماه | E6: طی ماه | F6: طی ماه | G6: طی ماه | H6: طی ماه | I6: طی ماه | K6: از ابتدای سال مالی تا پایان ماه | L6: از ابتدای سال مالی تا پایان ماه | M6: از ابتدای سال مالی تا پایان ماه | N6: از ابتدای سال مالی تا پایان ماه | O6: از ابتدای سال مالی تا پایان ماه | P6: از ابتدای سال مالی تا پایان ماه | Q6: از ابتدای سال مالی تا پایان ماه
A7: توضیحات | C7: درآمد سود اوراق | E7: درآمد تغییر ارزش | G7: درآمد فروش | I7: جمع کل | K7: درآمد سود اوراق | M7: درآمد تغییر ارزش | O7: درآمد فروش | Q7: جمع کل
A8: اسنادخزانه-م2بودجه02-050923 | C8: 0 | E8: -12751279624 | G8: 38764463831 | I8: =+G8+E8+C8 -> 26013184207 | K8: 0 | M8: 60537023991 | O8: 38764463831 | Q8: =+O8+M8+K8 -> 99301487822
A9: اسناد خزانه-م12بودجه02-050916 | C9: 0 | E9: 0 | G9: 7446009141 | I9: =+G9+E9+C9 -> 7446009141 | K9: 0 | M9: 0 | O9: 7446009141 | Q9: =+O9+M9+K9 -> 7446009141
A10: مرابحه عام دولت172-ش.خ050623 | C10: 106923444628 | E10: 0 | G10: 352142558125 | I10: =+G10+E10+C10 -> 459066002753 | K10: 560868426765 | M10: 0 | O10: 352142558125 | Q10: =+O10+M10+K10 -> 913010984890
A11: مرابحه عام دولت191-ش.خ060328 | C11: 95037218953 | E11: 0 | G11: 39735909062 | I11: =+G11+E11+C11 -> 134773128015 | K11: 95037218953 | M11: 0 | O11: 39735909062 | Q11: =+O11+M11+K11 -> 134773128015
A12: گواهی اعتبارمولد ملی14050631 | C12: 0 | E12: 0 | G12: 47947357315 | I12: =+G12+E12+C12 -> 47947357315 | K12: 0 | M12: 0 | O12: 47947357315 | Q12: =+O12+M12+K12 -> 47947357315
A13: گام بانک تجارت0506 | C13: 0 | E13: 0 | G13: 124530561215 | I13: =+G13+E13+C13 -> 124530561215 | K13: 0 | M13: 0 | O13: 124530561215 | Q13: =+O13+M13+K13 -> 124530561215
A14: سلف شیرفرادما سولیکو | C14: 0 | E14: 0 | G14: 230151156347 | I14: =+G14+E14+C14 -> 230151156347 | K14: 0 | M14: 0 | O14: 231406617087 | Q14: =+O14+M14+K14 -> 231406617087
A15: گواهی اعتبارمولد کشاورزی050631 | C15: 0 | E15: 0 | G15: 3752371606 | I15: =+G15+E15+C15 -> 3752371606 | K15: 0 | M15: 0 | O15: 3752371606 | Q15: =+O15+M15+K15 -> 3752371606
A16: گواهی اعتبارمولد شهر14050631 | C16: 0 | E16: 0 | G16: 204700909187 | I16: =+G16+E16+C16 -> 204700909187 | K16: 0 | M16: 0 | O16: 204700909187 | Q16: =+O16+M16+K16 -> 204700909187
A17: مرابحه عام دولت133-ش.خ050410 | C17: 0 | E17: 0 | G17: 0 | I17: =+G17+E17+C17 -> 0 | K17: 244732814341 | M17: 0 | O17: 388729081263 | Q17: =+O17+M17+K17 -> 633461895604
A18: اسنادخزانه-م1بودجه02-050325 | C18: 0 | E18: 0 | G18: 0 | I18: =+G18+E18+C18 -> 0 | K18: 0 | M18: 0 | O18: 17086274196 | Q18: =+O18+M18+K18 -> 17086274196
A19: مرابحه عام دولت162-ش.خ050329 | C19: 0 | E19: 0 | G19: 0 | I19: =+G19+E19+C19 -> 0 | K19: 204074479398 | M19: 0 | O19: 225747093542 | Q19: =+O19+M19+K19 -> 429821572940
... A86: گام بانک پارسیان0509 | C86: 0 | E86: -50359829 | G86: 0 | I86: =+G86+E86+C86 -> -50359829 | K86: 0 | M86: -50359829 | O86: 0 | Q86: =+O86+M86+K86 -> -50359829
C87: =SUM(C8:C86) -> 5365024920206 | E87: =SUM(E8:E86) -> 1983248501924 | G87: =SUM(G8:G86) -> 1049171295829 | I87: =SUM(I8:I86) -> 8397444717959 | K87: =SUM(K8:K86) -> 16520263858193 | M87: =SUM(M8:M86) -> 4002671191723 | O87: =SUM(O8:O86) -> 2563416246495 | Q87: =SUM(Q8:Q86) -> 23086351296411

Sheet مبالغ تخصیصی اوراق آوند
A1: صندوق سرمایه گذاری ثابت آوند مفید
A2: صورت وضعیت درآمدها
A3: برای ماه منتهی به 1405/06/31
A4: مبالغ تخصیص یافته بابت خرید و نگهداری اوراق بهادار با درآمد ثابت (نرخ سود ترجیحی)
A6: طرف معامله | B6: نوع وابستگی | C6: نام ورقه بهادار | D6: تعداد اوراق | E6: بهای تمام شده اوراق | F6: مبلغ شناسایی شده بابت قرارداد خرید و نگهداری اوراق بهادار | G6: نرخ اسمی | H6: میانگین نرخ بازده تا سررسید قراردادهای منعقده
A7: صندوق سرمایه گذاری اختصاصی بازارگردانی مفید | B7: مدیر صندوق مشترک | C7: صعبید 69 | D7: 2000000 | E7: 2000000000000 | F7: 8018812470 | G7: 23 | H7: 34
C8: صعبید803 | D8: 15000000 | E8: 15000000000000 | F8: 945041232 | G8: 26 | H8: 45
C9: اهداف073 | D9: 1440000 | E9: 1440000000000 | F9: 11596077961 | G9: 23 | H9: 39
C10: شهرداری قم | D10: 1000000 | E10: 1000000000000 | F10: 10762676069 | G10: 23 | H10: 42
C11: اورند پیشرو052 | D11: 1000000 | E11: 1000000000000 | F11: 4121978023 | G11: - | H11: 34/5
C12: طبیعت066 | D12: 2500000 | E12: =D12*1000000 -> 2500000000000 | F12: 22726733578 | G12: 23 | H12: 38.1
C13: طبیعت072 | D13: 2400000 | E13: 2400000000000 | F13: 20390439689 | G13: 23 | H13: 39
C14: صکشو 6031 | D14: 2400000 | E14: 2400000000000 | F14: 16814673482 | G14: 23 | H14: 37/5
C15: عکرمان 4 | D15: 3207600 | E15: 4947864134400 | F15: 43333839180 | G15: - | H15: 37
A16: داروسازی عبیدی | B16: فروشنده | C16: صعبید 803 | D16: 4500000 | E16: 4500000000000 | F16: 27731774439 | G16: 23 | H16: 45
A17: شرکت سولیکو کاله | C17: عکاله51 | D17: 460251 | E17: 1979976789450 | F17: 7905484064 | G17: - | H17: 37
A18: فولاد مبارکه اصفهان | C18: ههرمز 0508 | D18: 8465011287 | E18: 15001943513057 | F18: 157957190099 | G18: 30 | H18: 40
A19: تامین سرمایه کاردان | C19: سهیدرو 053 | D19: 963700 | E19: 3999707714200 | F19: 35273589599 | G19: - | H19: 38/2
A20: تامین سرمایه دماوند | C20: صغدیر 707 | D20: 1000000 | E20: 1000000000000 | F20: 7149220837 | G20: - | H20: 37/5
A21: شهرداری تهران | C21: اتوبوس1 | D21: 5000000 | E21: 5000000000000 | F21: 48781845923 | G21: 23 | H21: 41/7
A22: طب نوین ایران | C22: طب نوین6813 | D22: 1500000 | E22: 1283550000000 | F22: 956442814 | G22: 23 | H22: 42
A23: شرکت حایر تهران | C23: حایرتهران | D23: 400000 | E23: 370280000000 | F23: 2531760421 | G23: 23 | H23: 45
A24: شهرداری قم | C24: شهرداری قم | D24: 15000000 | E24: 15000000000000 | F24: 104105550329 | G24: 23 | H24: 41
A25: صندوق سرمایه گذاری اختصاصی بازارگردانی الگوریتم سرآمد بازار | C25: سرو07 | D25: 2000000 | E25: 2000000000000 | F25: 16474273580 | G25: 23 | H25: 39/25
A26: شهرداری بیرجند | C26: اتوبوس بیرجند | D26: 999998 | E26: 999998000000 | F26: 13993449795 | G26: - | H26: 47/84
A27: شرکت تامین سرمایه امین | C27: کاسپین 07 | D27: 450000 | E27: 450000000000 | F27: 2451406406 | G27: - | H27: 38

Sheet درآمد سود سهام
A2: صندوق سرمایه‌گذاری ثابت آوند مفید | B2: صندوق سرمایه‌گذاری ثابت آوند مفید | C2: صندوق سرمایه‌گذاری ثابت آوند مفید | D2: صندوق سرمایه‌گذاری ثابت آوند مفید | E2: صندوق سرمایه‌گذاری ثابت آوند مفید | F2: صندوق سرمایه‌گذاری ثابت آوند مفید | G2: صندوق سرمایه‌گذاری ثابت آوند مفید | H2: صندوق سرمایه‌گذاری ثابت آوند مفید | I2: صندوق سرمایه‌گذاری ثابت آوند مفید | J2: صندوق سرمایه‌گذاری ثابت آوند مفید | K2: صندوق سرمایه‌گذاری ثابت آوند مفید | L2: صندوق سرمایه‌گذاری ثابت آوند مفید | M2: صندوق سرمایه‌گذاری ثابت آوند مفید | N2: صندوق سرمایه‌گذاری ثابت آوند مفید | O2: صندوق سرمایه‌گذاری ثابت آوند مفید | P2: صندوق سرمایه‌گذاری ثابت آوند مفید | Q2: صندوق سرمایه‌گذاری ثابت آوند مفید | R2: صندوق سرمایه‌گذاری ثابت آوند مفید | S2: صندوق سرمایه‌گذاری ثابت آوند مفید
A3: صورت وضعیت درآمدها | B3: صورت وضعیت درآمدها | C3: صورت وضعیت درآمدها | D3: صورت وضعیت درآمدها | E3: صورت وضعیت درآمدها | F3: صورت وضعیت درآمدها | G3: صورت وضعیت درآمدها | H3: صورت وضعیت درآمدها | I3: صورت وضعیت درآمدها | J3: صورت وضعیت درآمدها | K3: صورت وضعیت درآمدها | L3: صورت وضعیت درآمدها | M3: صورت وضعیت درآمدها | N3: صورت وضعیت درآمدها | O3: صورت وضعیت درآمدها | P3: صورت وضعیت درآمدها | Q3: صورت وضعیت درآمدها | R3: صورت وضعیت درآمدها | S3: صورت وضعیت درآمدها
A4: برای ماه منتهی به 1405/06/31 | B4: برای ماه منتهی به 1405/06/31 | C4: برای ماه منتهی به 1405/06/31 | D4: برای ماه منتهی به 1405/06/31 | E4: برای ماه منتهی به 1405/06/31 | F4: برای ماه منتهی به 1405/06/31 | G4: برای ماه منتهی به 1405/06/31 | H4: برای ماه منتهی به 1405/06/31 | I4: برای ماه منتهی به 1405/06/31 | J4: برای ماه منتهی به 1405/06/31 | K4: برای ماه منتهی به 1405/06/31 | L4: برای ماه منتهی به 1405/06/31 | M4: برای ماه منتهی به 1405/06/31 | N4: برای ماه منتهی به 1405/06/31 | O4: برای ماه منتهی به 1405/06/31 | P4: برای ماه منتهی به 1405/06/31 | Q4: برای ماه منتهی به 1405/06/31 | R4: برای ماه منتهی به 1405/06/31 | S4: برای ماه منتهی به 1405/06/31
A6: نام شرکت | C6: اطلاعات مجمع | D6: اطلاعات مجمع | E6: اطلاعات مجمع | F6: اطلاعات مجمع | G6: اطلاعات مجمع | I6: طی ماه | J6: طی ماه | K6: طی ماه | L6: طی ماه | M6: طی ماه | O6: از ابتدای سال مالی تا پایان ماه | P6: از ابتدای سال مالی تا پایان ماه | Q6: از ابتدای سال مالی تا پایان ماه | R6: از ابتدای سال مالی تا پایان ماه | S6: از ابتدای سال مالی تا پایان ماه
A7: نام شرکت | C7: تاریخ مجمع | E7: تعداد سهام متعلقه در زمان مجمع | G7: سود متعلق به هر سهم | I7: جمع درآمد سود سهام | K7: هزینه تنزیل | M7: خالص درآمد سود سهام | O7: جمع درآمد سود سهام | Q7: هزینه تنزیل | S7: خالص درآمد سود سهام
A8: فولاد هرمزگان جنوب | C8: 1405/03/27 | E8: 9090119780 | G8: 93 | I8: 0 | K8: 0 | M8: 0 | O8: 845381139540 | Q8: 12549517591 | S8: 832831621949
A9: توسعه معادن وص.معدنی خاورمیانه | C9: 1405/04/09 | E9: 7000000 | G9: 86 | I9: 0 | K9: 0 | M9: 0 | O9: 602000000 | Q9: 59121680 | S9: 542878320
I10: =SUM(I8:I9) -> 0 | K10: =SUM(K8:K9) -> 0 | M10: =SUM(M8:M9) -> 0 | O10: =SUM(O8:O9) -> 845983139540 | Q10: =SUM(Q8:Q9) -> 12608639271 | S10: =SUM(S8:S9) -> 833374500269

Sheet سود اوراق بهادار
A2: صندوق سرمایه‌گذاری ثابت آوند مفید | B2: صندوق سرمایه‌گذاری ثابت آوند مفید | C2: صندوق سرمایه‌گذاری ثابت آوند مفید | D2: صندوق سرمایه‌گذاری ثابت آوند مفید | E2: صندوق سرمایه‌گذاری ثابت آوند مفید | F2: صندوق سرمایه‌گذاری ثابت آوند مفید | G2: صندوق سرمایه‌گذاری ثابت آوند مفید | H2: صندوق سرمایه‌گذاری ثابت آوند مفید | I2: صندوق سرمایه‌گذاری ثابت آوند مفید | J2: صندوق سرمایه‌گذاری ثابت آوند مفید | K2: صندوق سرمایه‌گذاری ثابت آوند مفید | L2: صندوق سرمایه‌گذاری ثابت آوند مفید | M2: صندوق سرمایه‌گذاری ثابت آوند مفید
A3: صورت وضعیت درآمدها | B3: صورت وضعیت درآمدها | C3: صورت وضعیت درآمدها | D3: صورت وضعیت درآمدها | E3: صورت وضعیت درآمدها | F3: صورت وضعیت درآمدها | G3: صورت وضعیت درآمدها | H3: صورت وضعیت درآمدها | I3: صورت وضعیت درآمدها | J3: صورت وضعیت درآمدها | K3: صورت وضعیت درآمدها | L3: صورت وضعیت درآمدها | M3: صورت وضعیت درآمدها
A4: برای ماه منتهی به 1405/06/31 | B4: برای ماه منتهی به 1405/06/31 | C4: برای ماه منتهی به 1405/06/31 | D4: برای ماه منتهی به 1405/06/31 | E4: برای ماه منتهی به 1405/06/31 | F4: برای ماه منتهی به 1405/06/31 | G4: برای ماه منتهی به 1405/06/31 | H4: برای ماه منتهی به 1405/06/31 | I4: برای ماه منتهی به 1405/06/31 | J4: برای ماه منتهی به 1405/06/31 | K4: برای ماه منتهی به 1405/06/31 | L4: برای ماه منتهی به 1405/06/31 | M4: برای ماه منتهی به 1405/06/31
A6: مشخصات | C6: طی ماه | D6: طی ماه | E6: طی ماه | F6: طی ماه | G6: طی ماه | I6: از ابتدای سال مالی تا پایان ماه | J6: از ابتدای سال مالی تا پایان ماه | K6: از ابتدای سال مالی تا پایان ماه | L6: از ابتدای سال مالی تا پایان ماه | M6: از ابتدای سال مالی تا پایان ماه
A7: توضیحات | C7: درآمد سود | E7: هزینه تنزیل | G7: خالص درآمد | I7: درآمد سود | K7: هزینه تنزیل | M7: خالص درآمد
A8: صکوک مرابحه گل گهر760-3ماهه23% | C8: 76278859360 | E8: 0 | G8: 76278859360 | I8: 76278859360 | K8: 0 | M8: 76278859360
A9: اتوبوس بیرجند | C9: 17638866574 | E9: 0 | G9: 17638866574 | I9: 17638866574 | K9: 0 | M9: 17638866574
A10: مرابحه عام دولت298-ش.خ080414 | C10: 263567362093 | E10: 0 | G10: 263567362093 | I10: 263567362093 | K10: 0 | M10: 263567362093
A11: مرابحه عام دولت292-ش.خ070909 | C11: 47175933664 | E11: 0 | G11: 47175933664 | I11: 47175933664 | K11: 0 | M11: 47175933664
A12: مرابحه عام دولت291-ش.خ070509 | C12: 27722866018 | E12: 0 | G12: 27722866018 | I12: 27722866018 | K12: 0 | M12: 27722866018
A13: مرابحه عام دولت286-ش.خ080419 | C13: 282285817569 | E13: 0 | G13: 282285817569 | I13: 282285817569 | K13: 0 | M13: 282285817569
A14: مرابحه عام دولت283-ش.خ080312 | C14: 316244505579 | E14: 0 | G14: 316244505579 | I14: 316244505579 | K14: 0 | M14: 316244505579
A15: مرابحه حایرتهران14060910 | C15: 7707730593 | E15: 0 | G15: 7707730593 | I15: 28497525113 | K15: 0 | M15: 28497525113
A16: صکوک مرابحه دعبید803-بدون ضامن | C16: 97846447291 | E16: 0 | G16: 97846447291 | I16: 362021506853 | K16: 0 | M16: 362021506853
A17: مرابحه طب پلاستیک نوین14060821 | C17: 28542271188 | E17: 0 | G17: 28542271188 | I17: 116446965039 | K17: 0 | M17: 116446965039
A18: مرابحه عام دولت279-ش.خ080218 | C18: 5673333333 | E18: 0 | G18: 5673333333 | I18: 5673333333 | K18: 0 | M18: 5673333333
A19: مرابحه عام دولت270-ش.خ071121 | C19: 0 | E19: 0 | G19: 0 | I19: 947784540117 | K19: 0 | M19: 947784540117
... A55: مرابحه عام دولت133-ش.خ050410 | C55: 0 | E55: 0 | G55: 0 | I55: 244732814341 | K55: 0 | M55: 244732814341
C56: =SUM(C8:C55) -> 5365024920206 | E56: =SUM(E8:E55) -> 0 | G56: =SUM(G8:G55) -> 5365024920206 | I56: =SUM(I8:I55) -> 16520263858193 | K56: =SUM(K8:K55) -> 0 | M56: =SUM(M8:M55) -> 16520263858193

Sheet سود سپرده بانکی
A2: صندوق سرمایه‌گذاری ثابت آوند مفید | B2: صندوق سرمایه‌گذاری ثابت آوند مفید | C2: صندوق سرمایه‌گذاری ثابت آوند مفید | D2: صندوق سرمایه‌گذاری ثابت آوند مفید | E2: صندوق سرمایه‌گذاری ثابت آوند مفید | F2: صندوق سرمایه‌گذاری ثابت آوند مفید | G2: صندوق سرمایه‌گذاری ثابت آوند مفید | H2: صندوق سرمایه‌گذاری ثابت آوند مفید | I2: صندوق سرمایه‌گذاری ثابت آوند مفید | J2: صندوق سرمایه‌گذاری ثابت آوند مفید | K2: صندوق سرمایه‌گذاری ثابت آوند مفید | L2: صندوق سرمایه‌گذاری ثابت آوند مفید | M2: صندوق سرمایه‌گذاری ثابت آوند مفید
A3: صورت وضعیت درآمدها | B3: صورت وضعیت درآمدها | C3: صورت وضعیت درآمدها | D3: صورت وضعیت درآمدها | E3: صورت وضعیت درآمدها | F3: صورت وضعیت درآمدها | G3: صورت وضعیت درآمدها | H3: صورت وضعیت درآمدها | I3: صورت وضعیت درآمدها | J3: صورت وضعیت درآمدها | K3: صورت وضعیت درآمدها | L3: صورت وضعیت درآمدها | M3: صورت وضعیت درآمدها
A4: برای ماه منتهی به 1405/06/31 | B4: برای ماه منتهی به 1405/06/31 | C4: برای ماه منتهی به 1405/06/31 | D4: برای ماه منتهی به 1405/06/31 | E4: برای ماه منتهی به 1405/06/31 | F4: برای ماه منتهی به 1405/06/31 | G4: برای ماه منتهی به 1405/06/31 | H4: برای ماه منتهی به 1405/06/31 | I4: برای ماه منتهی به 1405/06/31 | J4: برای ماه منتهی به 1405/06/31 | K4: برای ماه منتهی به 1405/06/31 | L4: برای ماه منتهی به 1405/06/31 | M4: برای ماه منتهی به 1405/06/31
A6: مشخصات | C6: طی ماه | D6: طی ماه | E6: طی ماه | F6: طی ماه | G6: طی ماه | I6: از ابتدای سال مالی تا پایان ماه | J6: از ابتدای سال مالی تا پایان ماه | K6: از ابتدای سال مالی تا پایان ماه | L6: از ابتدای سال مالی تا پایان ماه | M6: از ابتدای سال مالی تا پایان ماه
A7: توضیحات | C7: درآمد سود | E7: هزینه تنزیل | G7: خالص درآمد | I7: درآمد سود | K7: هزینه تنزیل | M7: خالص درآمد
A8: بانک پاسارگاد هفت تیر | C8: 24940 | E8: 0 | G8: =+C8-E8 -> 24940 | I8: 100474 | K8: 0 | M8: =+I8-K8 -> 100474
A9: بانک خاورمیانه ظفر | C9: 697965065 | E9: 0 | G9: =+C9-E9 -> 697965065 | I9: 24497113406 | K9: 0 | M9: =+I9-K9 -> 24497113406
A10: بانک ملت شعبه مستقل مرکزی | C10: 42820 | E10: 0 | G10: =+C10-E10 -> 42820 | I10: 139265 | K10: 0 | M10: =+I10-K10 -> 139265
A11: بانک تجارت حافظ جنوبی | C11: 75019 | E11: 0 | G11: =+C11-E11 -> 75019 | I11: 125449 | K11: 0 | M11: =+I11-K11 -> 125449
A12: بانک ملت چهار راه جهان کودک | C12: 43538 | E12: 0 | G12: =+C12-E12 -> 43538 | I12: 107381 | K12: 0 | M12: =+I12-K12 -> 107381
A13: بانک صادرات بورس کالا | C13: 41974 | E13: 0 | G13: =+C13-E13 -> 41974 | I13: 2628581040 | K13: 0 | M13: =+I13-K13 -> 2628581040
A14: بانک شهر کامرانیه | C14: 40832 | E14: 0 | G14: =+C14-E14 -> 40832 | I14: 158156 | K14: 0 | M14: =+I14-K14 -> 158156
A15: بانک رفاه دادمان | C15: 29963 | E15: 0 | G15: =+C15-E15 -> 29963 | I15: 142564 | K15: 0 | M15: =+I15-K15 -> 142564
A16: بانک ملت مستقل مرکزی | C16: 0 | E16: 0 | G16: =+C16-E16 -> 0 | I16: 28054794533 | K16: 0 | M16: =+I16-K16 -> 28054794533
A17: بانک ملت مستقل مرکزی | C17: 0 | E17: 0 | G17: =+C17-E17 -> 0 | I17: 22443835615 | K17: 0 | M17: =+I17-K17 -> 22443835615
A18: بانک ملت مستقل مرکزی | C18: 0 | E18: 0 | G18: =+C18-E18 -> 0 | I18: 98980821934 | K18: 0 | M18: =+I18-K18 -> 98980821934
A19: بانک تجارت فاطمی | C19: 79150684936 | E19: 0 | G19: =+C19-E19 -> 79150684936 | I19: 325232876717 | K19: 0 | M19: =+I19-K19 -> 325232876717
... A146: بانک صادرات زنجان | C146: 29822301369 | E146: 635707993 | G146: =+C146-E146 -> 29186593376 | I146: 29822301369 | K146: 635707993 | M146: =+I146-K146 -> 29186593376
C147: =SUM(C8:C146) -> 5113238398752 | E147: =SUM(E8:E146) -> 5253011772 | G147: =SUM(G8:G146) -> 5107985386980 | I147: =SUM(I8:I146) -> 23800415669852 | K147: =SUM(K8:K146) -> 13196454805 | M147: =SUM(M8:M146) -> 23787219215047

Sheet درآمد سپرده بانکی
A2: صندوق سرمایه‌گذاری ثابت آوند مفید | B2: صندوق سرمایه‌گذاری ثابت آوند مفید | C2: صندوق سرمایه‌گذاری ثابت آوند مفید | D2: صندوق سرمایه‌گذاری ثابت آوند مفید | E2: صندوق سرمایه‌گذاری ثابت آوند مفید | F2: صندوق سرمایه‌گذاری ثابت آوند مفید | G2: صندوق سرمایه‌گذاری ثابت آوند مفید | H2: صندوق سرمایه‌گذاری ثابت آوند مفید | I2: صندوق سرمایه‌گذاری ثابت آوند مفید
A3: صورت وضعیت درآمدها | B3: صورت وضعیت درآمدها | C3: صورت وضعیت درآمدها | D3: صورت وضعیت درآمدها | E3: صورت وضعیت درآمدها | F3: صورت وضعیت درآمدها | G3: صورت وضعیت درآمدها | H3: صورت وضعیت درآمدها | I3: صورت وضعیت درآمدها
A4: برای ماه منتهی به 1405/06/31 | B4: برای ماه منتهی به 1405/06/31 | C4: برای ماه منتهی به 1405/06/31 | D4: برای ماه منتهی به 1405/06/31 | E4: برای ماه منتهی به 1405/06/31 | F4: برای ماه منتهی به 1405/06/31 | G4: برای ماه منتهی به 1405/06/31 | H4: برای ماه منتهی به 1405/06/31 | I4: برای ماه منتهی به 1405/06/31
A6: نام سپرده بانکی | B6: نام سپرده بانکی | C6: طی ماه | D6: طی ماه | E6: طی ماه | G6: از ابتدای سال مالی تا پایان ماه | H6: از ابتدای سال مالی تا پایان ماه | I6: از ابتدای سال مالی تا پایان ماه
A7: نام سپرده | C7: سود سپرده بانکی و گواهی سپرده | E7: درصد سود به میانگین سپرده | G7: سود سپرده بانکی و گواهی سپرده | I7: درصد سود به میانگین سپرده
A8: بانک پاسارگاد هفت تیر | C8: 24940 | E8: =+C8/$C$147 -> 4.8825512e-09 | G8: 100474 | I8: =+G8/$G$147 -> 4.2238649e-09
A9: بانک خاورمیانه ظفر | C9: 697965065 | E9: =+C9/$C$147 -> 0.00013664195 | G9: 24497113406 | I9: =+G9/$G$147 -> 0.0010298435
A10: بانک ملت شعبه مستقل مرکزی | C10: 42820 | E10: =+C10/$C$147 -> 8.3829527e-09 | G10: 139265 | I10: =+G10/$G$147 -> 5.8546146e-09
A11: بانک تجارت حافظ جنوبی | C11: 75019 | E11: =+C11/$C$147 -> 1.4686612e-08 | G11: 125449 | I11: =+G11/$G$147 -> 5.2737985e-09
A12: بانک ملت چهار راه جهان کودک | C12: 43538 | E12: =+C12/$C$147 -> 8.5235169e-09 | G12: 107381 | I12: =+G12/$G$147 -> 4.5142309e-09
A13: بانک صادرات بورس کالا | C13: 41974 | E13: =+C13/$C$147 -> 8.2173297e-09 | G13: 2628581040 | I13: =+G13/$G$147 -> 0.00011050392
A14: بانک شهر کامرانیه | C14: 40832 | E14: =+C14/$C$147 -> 7.9937582e-09 | G14: 158156 | I14: =+G14/$G$147 -> 6.6487805e-09
A15: بانک رفاه دادمان | C15: 29963 | E15: =+C15/$C$147 -> 5.8659134e-09 | G15: 142564 | I15: =+G15/$G$147 -> 5.9933025e-09
A16: بانک ملت مستقل مرکزی | C16: 0 | E16: =+C16/$C$147 -> 0 | G16: 28054794533 | I16: =+G16/$G$147 -> 0.0011794062
A17: بانک ملت مستقل مرکزی | C17: 0 | E17: =+C17/$C$147 -> 0 | G17: 22443835615 | I17: =+G17/$G$147 -> 0.00094352498
A18: بانک ملت مستقل مرکزی | C18: 0 | E18: =+C18/$C$147 -> 0 | G18: 98980821934 | I18: =+G18/$G$147 -> 0.0041610926
A19: بانک تجارت فاطمی | C19: 79150684936 | E19: =+C19/$C$147 -> 0.01549548 | G19: 325232876717 | I19: =+G19/$G$147 -> 0.013672589
... A146: بانک صادرات زنجان | C146: 29186593376 | E146: =+C146/$C$147 -> 0.0057139148 | G146: 29186593376 | I146: =+G146/$G$147 -> 0.0012269864
C147: =SUM(C8:C146) -> 5107985386980 | E147: =SUM(E8:E146) -> 1 | G147: =SUM(G8:G146) -> 23787219215047 | I147: =SUM(I8:I146) -> 1

Sheet درآمد ناشی از فروش
A2: صندوق سرمایه‌گذاری ثابت آوند مفید | B2: صندوق سرمایه‌گذاری ثابت آوند مفید | C2: صندوق سرمایه‌گذاری ثابت آوند مفید | D2: صندوق سرمایه‌گذاری ثابت آوند مفید | E2: صندوق سرمایه‌گذاری ثابت آوند مفید | F2: صندوق سرمایه‌گذاری ثابت آوند مفید | G2: صندوق سرمایه‌گذاری ثابت آوند مفید | H2: صندوق سرمایه‌گذاری ثابت آوند مفید | I2: صندوق سرمایه‌گذاری ثابت آوند مفید | J2: صندوق سرمایه‌گذاری ثابت آوند مفید | K2: صندوق سرمایه‌گذاری ثابت آوند مفید | L2: صندوق سرمایه‌گذاری ثابت آوند مفید | M2: صندوق سرمایه‌گذاری ثابت آوند مفید | N2: صندوق سرمایه‌گذاری ثابت آوند مفید | O2: صندوق سرمایه‌گذاری ثابت آوند مفید | P2: صندوق سرمایه‌گذاری ثابت آوند مفید | Q2: صندوق سرمایه‌گذاری ثابت آوند مفید
A3: صورت وضعیت درآمدها | B3: صورت وضعیت درآمدها | C3: صورت وضعیت درآمدها | D3: صورت وضعیت درآمدها | E3: صورت وضعیت درآمدها | F3: صورت وضعیت درآمدها | G3: صورت وضعیت درآمدها | H3: صورت وضعیت درآمدها | I3: صورت وضعیت درآمدها | J3: صورت وضعیت درآمدها | K3: صورت وضعیت درآمدها | L3: صورت وضعیت درآمدها | M3: صورت وضعیت درآمدها | N3: صورت وضعیت درآمدها | O3: صورت وضعیت درآمدها | P3: صورت وضعیت درآمدها | Q3: صورت وضعیت درآمدها
A4: برای ماه منتهی به 1405/06/31 | B4: برای ماه منتهی به 1405/06/31 | C4: برای ماه منتهی به 1405/06/31 | D4: برای ماه منتهی به 1405/06/31 | E4: برای ماه منتهی به 1405/06/31 | F4: برای ماه منتهی به 1405/06/31 | G4: برای ماه منتهی به 1405/06/31 | H4: برای ماه منتهی به 1405/06/31 | I4: برای ماه منتهی به 1405/06/31 | J4: برای ماه منتهی به 1405/06/31 | K4: برای ماه منتهی به 1405/06/31 | L4: برای ماه منتهی به 1405/06/31 | M4: برای ماه منتهی به 1405/06/31 | N4: برای ماه منتهی به 1405/06/31 | O4: برای ماه منتهی به 1405/06/31 | P4: برای ماه منتهی به 1405/06/31 | Q4: برای ماه منتهی به 1405/06/31
A6: نام شرکت | C6: طی ماه | D6: طی ماه | E6: طی ماه | F6: طی ماه | G6: طی ماه | H6: طی ماه | I6: طی ماه | K6: از ابتدای سال مالی تا پایان ماه | L6: از ابتدای سال مالی تا پایان ماه | M6: از ابتدای سال مالی تا پایان ماه | N6: از ابتدای سال مالی تا پایان ماه | O6: از ابتدای سال مالی تا پایان ماه | P6: از ابتدای سال مالی تا پایان ماه | Q6: از ابتدای سال مالی تا پایان ماه
A7: نام شرکت | C7: تعداد | E7: بهای فروش | G7: ارزش دفتری | I7: سود و زیان ناشی از فروش | K7: تعداد | M7: بهای فروش | O7: ارزش دفتری | Q7: سود و زیان ناشی از فروش
A8: صندوق سرمایه گذاری سهامی اهرمی موج فیروزه | C8: 0 | E8: 0 | G8: 0 | I8: =+E8-G8 -> 0 | K8: 164496851 | M8: 3601826554778 | O8: 3502475098069 | Q8: =+M8-O8 -> 99351456709
A9: ملی صنایع مس ایران | C9: 0 | E9: 0 | G9: 0 | I9: =+E9-G9 -> 0 | K9: 494909484 | M9: 3501913933282 | O9: 3484433384313 | Q9: =+M9-O9 -> 17480548969
A10: توسعه معادن وص.معدنی خاورمیانه | C10: 0 | E10: 0 | G10: 0 | I10: =+E10-G10 -> 0 | K10: 4000000 | M10: 29418433706 | O10: 24381520705 | Q10: =+M10-O10 -> 5036913001
A11: اسنادخزانه-م2بودجه02-050923 | C11: 399340 | E11: 370140844144 | G11: 331376380313 | I11: =+E11-G11 -> 38764463831 | K11: 399340 | M11: 370140844144 | O11: 331376380313 | Q11: =+M11-O11 -> 38764463831
A12: اسناد خزانه-م12بودجه02-050916 | C12: 73594 | E12: 68584218935 | G12: 61138209794 | I12: =+E12-G12 -> 7446009141 | K12: 73594 | M12: 68584218935 | O12: 61138209794 | Q12: =+M12-O12 -> 7446009141
A13: مرابحه عام دولت172-ش.خ050623 | C13: 7340000 | E13: 7340000000000 | G13: 6987857441875 | I13: =+E13-G13 -> 352142558125 | K13: 7340000 | M13: 7340000000000 | O13: 6987857441875 | Q13: =+M13-O13 -> 352142558125
A14: مرابحه عام دولت191-ش.خ060328 | C14: 25200000 | E14: 23081276838998 | G14: 23041540929936 | I14: =+E14-G14 -> 39735909062 | K14: 25200000 | M14: 23081276838998 | O14: 23041540929936 | Q14: =+M14-O14 -> 39735909062
A15: گواهی اعتبارمولد ملی14050631 | C15: 254870 | E15: 254870000000 | G15: 206922642685 | I15: =+E15-G15 -> 47947357315 | K15: 254870 | M15: 254870000000 | O15: 206922642685 | Q15: =+M15-O15 -> 47947357315
A16: گام بانک تجارت0506 | C16: 622799 | E16: 622799000000 | G16: 498268438785 | I16: =+E16-G16 -> 124530561215 | K16: 622799 | M16: 622799000000 | O16: 498268438785 | Q16: =+M16-O16 -> 124530561215
A17: سلف شیرفرادما سولیکو | C17: 456251 | E17: 2698807246431 | G17: 2468656090084 | I17: =+E17-G17 -> 230151156347 | K17: 460251 | M17: 2722480024031 | O17: 2491073406944 | Q17: =+M17-O17 -> 231406617087
A18: گواهی اعتبارمولد کشاورزی050631 | C18: 21094 | E18: 21094000000 | G18: 17341628394 | I18: =+E18-G18 -> 3752371606 | K18: 21094 | M18: 21094000000 | O18: 17341628394 | Q18: =+M18-O18 -> 3752371606
A19: گواهی اعتبارمولد شهر14050631 | C19: 1770106 | E19: 1770106000000 | G19: 1565405090813 | I19: =+E19-G19 -> 204700909187 | K19: 1770106 | M19: 1770106000000 | O19: 1565405090813 | Q19: =+M19-O19 -> 204700909187
... A27: گواهی اعتبارمولد شهر14050431 | C27: 0 | E27: 0 | G27: 0 | I27: =+E27-G27 -> 0 | K27: 928124 | M27: 928124000000 | O27: 769350141768 | Q27: =+M27-O27 -> 158773858232
E28: =SUM(E8:E27) -> 36227678148508 | G28: =SUM(G8:G27) -> 35178506852679 | I28: =SUM(I8:I27) -> 1049171295829 | M28: =SUM(M8:M27) -> 91284423847874 | O28: =SUM(O8:O27) -> 88599138682700 | Q28: =SUM(Q8:Q27) -> 2685285165174

Sheet درآمد ناشی از تغییر قیمت اوراق
A2: صندوق سرمایه‌گذاری ثابت آوند مفید | B2: صندوق سرمایه‌گذاری ثابت آوند مفید | C2: صندوق سرمایه‌گذاری ثابت آوند مفید | D2: صندوق سرمایه‌گذاری ثابت آوند مفید | E2: صندوق سرمایه‌گذاری ثابت آوند مفید | F2: صندوق سرمایه‌گذاری ثابت آوند مفید | G2: صندوق سرمایه‌گذاری ثابت آوند مفید | H2: صندوق سرمایه‌گذاری ثابت آوند مفید | I2: صندوق سرمایه‌گذاری ثابت آوند مفید | J2: صندوق سرمایه‌گذاری ثابت آوند مفید | K2: صندوق سرمایه‌گذاری ثابت آوند مفید | L2: صندوق سرمایه‌گذاری ثابت آوند مفید | M2: صندوق سرمایه‌گذاری ثابت آوند مفید | N2: صندوق سرمایه‌گذاری ثابت آوند مفید | O2: صندوق سرمایه‌گذاری ثابت آوند مفید | P2: صندوق سرمایه‌گذاری ثابت آوند مفید | Q2: صندوق سرمایه‌گذاری ثابت آوند مفید
A3: صورت وضعیت درآمدها | B3: صورت وضعیت درآمدها | C3: صورت وضعیت درآمدها | D3: صورت وضعیت درآمدها | E3: صورت وضعیت درآمدها | F3: صورت وضعیت درآمدها | G3: صورت وضعیت درآمدها | H3: صورت وضعیت درآمدها | I3: صورت وضعیت درآمدها | J3: صورت وضعیت درآمدها | K3: صورت وضعیت درآمدها | L3: صورت وضعیت درآمدها | M3: صورت وضعیت درآمدها | N3: صورت وضعیت درآمدها | O3: صورت وضعیت درآمدها | P3: صورت وضعیت درآمدها | Q3: صورت وضعیت درآمدها
A4: برای ماه منتهی به 1405/06/31 | B4: برای ماه منتهی به 1405/06/31 | C4: برای ماه منتهی به 1405/06/31 | D4: برای ماه منتهی به 1405/06/31 | E4: برای ماه منتهی به 1405/06/31 | F4: برای ماه منتهی به 1405/06/31 | G4: برای ماه منتهی به 1405/06/31 | H4: برای ماه منتهی به 1405/06/31 | I4: برای ماه منتهی به 1405/06/31 | J4: برای ماه منتهی به 1405/06/31 | K4: برای ماه منتهی به 1405/06/31 | L4: برای ماه منتهی به 1405/06/31 | M4: برای ماه منتهی به 1405/06/31 | N4: برای ماه منتهی به 1405/06/31 | O4: برای ماه منتهی به 1405/06/31 | P4: برای ماه منتهی به 1405/06/31 | Q4: برای ماه منتهی به 1405/06/31
A6: نام شرکت | C6: طی ماه | D6: طی ماه | E6: طی ماه | F6: طی ماه | G6: طی ماه | H6: طی ماه | I6: طی ماه | K6: از ابتدای سال مالی تا پایان ماه | L6: از ابتدای سال مالی تا پایان ماه | M6: از ابتدای سال مالی تا پایان ماه | N6: از ابتدای سال مالی تا پایان ماه | O6: از ابتدای سال مالی تا پایان ماه | P6: از ابتدای سال مالی تا پایان ماه | Q6: از ابتدای سال مالی تا پایان ماه
A7: نام شرکت | C7: تعداد | E7: بهای فروش | G7: ارزش دفتری | I7: سود و زیان ناشی از تغییر قیمت | K7: تعداد | M7: بهای فروش | O7: ارزش دفتری | Q7: سود و زیان ناشی از تغییر قیمت
A8: صندوق سرمایه‌گذاری مشترک پیشتاز | C8: 6813985 | E8: 1343764634888 | G8: 1152557401803 | I8: =+E8-G8 -> 191207233085 | K8: 6813985 | M8: 1343764634888 | O8: 991706471893 | Q8: =+M8-O8 -> 352058162995
A9: صندوق س.توسعه اندوخته آینده-س | C9: 4137000 | E9: 636769324037 | G9: 591021289717 | I9: =+E9-G9 -> 45748034320 | K9: 4137000 | M9: 636769324037 | O9: 332924510671 | Q9: =+M9-O9 -> 303844813366
A10: صندوق سرمایه‌گذاری مشترک پیشرو | C10: 31898944 | E10: 1342380107205 | G10: 1158801684485 | I10: =+E10-G10 -> 183578422720 | K10: 31898944 | M10: 1342380107205 | O10: 991715015813 | Q10: =+M10-O10 -> 350665091392
A11: صندوق س صنایع مفید4-بخشی | C11: 1325774 | E11: 39298883424 | G11: 30199650870 | I11: =+E11-G11 -> 9099232554 | K11: 1325774 | M11: 39298883424 | O11: 24879182577 | Q11: =+M11-O11 -> 14419700847
A12: صندوق طلای عیار مفید | C12: 10079988 | E12: 6648271225793 | G12: 5983521666731 | I12: =+E12-G12 -> 664749559062 | K12: 10079988 | M12: 6648271225793 | O12: 5232124347894 | Q12: =+M12-O12 -> 1416146877899
A13: صندوق س صنایع مفید1- بخشی | C13: 14495303 | E13: 527117229041 | G13: 433322221005 | I13: =+E13-G13 -> 93795008036 | K13: 14495303 | M13: 527117229041 | O13: 245037105291 | Q13: =+M13-O13 -> 282080123750
A14: صندوق سرمایه‌گذاری مشترک امید توسعه | C14: 13222441 | E14: 1333267237790 | G14: 1161772178020 | I14: =+E14-G14 -> 171495059770 | K14: 13222441 | M14: 1333267237790 | O14: 991771254083 | Q14: =+M14-O14 -> 341495983707
A15: صندوق سرمایه‌گذاری بازنشستگی تکمیلی آتیه مفید | C15: 31544746 | E15: 1405696019925 | G15: 1218351773431 | I15: =+E15-G15 -> 187344246494 | K15: 31544746 | M15: 1405696019925 | O15: 991324236469 | Q15: =+M15-O15 -> 414371783456
A16: فولاد هرمزگان جنوب | C16: 9090119780 | E16: 17120114067085 | G16: 16812945793586 | I16: =+E16-G16 -> 307168273499 | K16: 9090119780 | M16: 17120114067085 | O16: 17924172194774 | Q16: =+M16-O16 -> -804058127689
A17: صندوق س سهامی بیدار-اهرمی - واحد عادی | C17: 139143412 | E17: 2765383256496 | G17: 4143598752356 | I17: =+E17-G17 -> -1378215495860 | K17: 139143412 | M17: 2765383256496 | O17: 2475964959536 | Q17: =+M17-O17 -> 289418296960
A18: ص س. پروژه برق خورشیدی | C18: 49940071 | E18: 499248392783 | G18: 499553027212 | I18: =+E18-G18 -> -304634429 | K18: 49940071 | M18: 499248392783 | O18: 499553027212 | Q18: =+M18-O18 -> -304634429
A19: اسنادخزانه-م2بودجه02-050923 | C19: 611625 | E19: 568069649335 | G19: 580820928959 | I19: =+E19-G19 -> -12751279624 | K19: 611625 | M19: 568069649335 | O19: 507532625344 | Q19: =+M19-O19 -> 60537023991
... A68: صکوک مرابحه گل گهر760-3ماهه23% | C68: 9800000 | E68: 9797758250000 | G68: 9800000000000 | I68: =+E68-G68 -> -2241750000 | K68: 9800000 | M68: 9797758250000 | O68: 9800000000000 | Q68: =+M68-O68 -> -2241750000
E69: =SUM(E8:E68) -> 381149707285104 | G69: =SUM(G8:G68) -> 378690793843943 | I69: =SUM(I8:I68) -> 2458913441161 | M69: =SUM(M8:M68) -> 381149707285104 | O69: =SUM(O8:O68) -> 374186898021146 | Q69: =SUM(Q8:Q68) -> 6962809263958
